BEGIN:VCALENDAR
VERSION:2.0
PRODID:-//Wildcat Valley Rifle &amp; Pistol Club - ECPv6.15.20//NONSGML v1.0//EN
CALSCALE:GREGORIAN
METHOD:PUBLISH
X-ORIGINAL-URL:https://wvrpc.org
X-WR-CALDESC:Events for Wildcat Valley Rifle &amp; Pistol Club
REFRESH-INTERVAL;VALUE=DURATION:PT1H
X-Robots-Tag:noindex
X-PUBLISHED-TTL:PT1H
BEGIN:VTIMEZONE
TZID:America/Indiana/Indianapolis
BEGIN:DAYLIGHT
TZOFFSETFROM:-0500
TZOFFSETTO:-0400
TZNAME:EDT
DTSTART:20240310T070000
END:DAYLIGHT
BEGIN:STANDARD
TZOFFSETFROM:-0400
TZOFFSETTO:-0500
TZNAME:EST
DTSTART:20241103T060000
END:STANDARD
BEGIN:DAYLIGHT
TZOFFSETFROM:-0500
TZOFFSETTO:-0400
TZNAME:EDT
DTSTART:20250309T070000
END:DAYLIGHT
BEGIN:STANDARD
TZOFFSETFROM:-0400
TZOFFSETTO:-0500
TZNAME:EST
DTSTART:20251102T060000
END:STANDARD
BEGIN:DAYLIGHT
TZOFFSETFROM:-0500
TZOFFSETTO:-0400
TZNAME:EDT
DTSTART:20260308T070000
END:DAYLIGHT
BEGIN:STANDARD
TZOFFSETFROM:-0400
TZOFFSETTO:-0500
TZNAME:EST
DTSTART:20261101T060000
END:STANDARD
END:VTIMEZONE
BEGIN:VEVENT
DTSTART;TZID=America/Indiana/Indianapolis:20251101T073000
DTEND;TZID=America/Indiana/Indianapolis:20251101T160000
DTSTAMP:20260421T204241
CREATED:20250219T091913Z
LAST-MODIFIED:20250219T095058Z
UID:3902-1761982200-1762012800@wvrpc.org
SUMMARY:USPSA
DESCRIPTION:Setup 7:30 AMMatch 11:00 AM\n(Ranges 3-8 & Clubhouse)
URL:https://wvrpc.org/event/uspsa-36/
LOCATION:Wildcat Valley R and P Club\, 12094 SOUTH 300 EAST\, BROOKSTON\, IN\, 47923\, United States
CATEGORIES:USPSA
END:VEVENT
BEGIN:VEVENT
DTSTART;VALUE=DATE:20251102
DTEND;VALUE=DATE:20251103
DTSTAMP:20260421T204241
CREATED:20250219T091913Z
LAST-MODIFIED:20250406T201514Z
UID:3903-1762041600-1762127999@wvrpc.org
SUMMARY:Rimfire Falling Steel
DESCRIPTION:See Practicscore for match & setup times(Ranges 3 – 7)
URL:https://wvrpc.org/event/rimfire-falling-steel-36/
LOCATION:Wildcat Valley R and P Club\, 12094 SOUTH 300 EAST\, BROOKSTON\, IN\, 47923\, United States
CATEGORIES:RFS
END:VEVENT
BEGIN:VEVENT
DTSTART;TZID=America/Indiana/Indianapolis:20251105T193000
DTEND;TZID=America/Indiana/Indianapolis:20251105T203000
DTSTAMP:20260421T204241
CREATED:20250219T091914Z
LAST-MODIFIED:20250219T095058Z
UID:3904-1762371000-1762374600@wvrpc.org
SUMMARY:Club Meeting
DESCRIPTION:Clubhouse
URL:https://wvrpc.org/event/club-meeting-45/
LOCATION:Wildcat Valley R and P Club\, 12094 SOUTH 300 EAST\, BROOKSTON\, IN\, 47923\, United States
CATEGORIES:Membership Meetings
END:VEVENT
BEGIN:VEVENT
DTSTART;TZID=America/Indiana/Indianapolis:20251107T090000
DTEND;TZID=America/Indiana/Indianapolis:20251107T190000
DTSTAMP:20260421T204241
CREATED:20251002T094952Z
LAST-MODIFIED:20251002T094952Z
UID:4327-1762506000-1762542000@wvrpc.org
SUMMARY:2025 Honor Flight 2 Gun Charity Match Setup
DESCRIPTION:**** Ranges 1 – 8 ****
URL:https://wvrpc.org/event/2025-honor-flight-2-gun-charity-match-setup/
LOCATION:Wildcat Valley R and P Club\, 12094 SOUTH 300 EAST\, BROOKSTON\, IN\, 47923\, United States
CATEGORIES:Special Event
END:VEVENT
BEGIN:VEVENT
DTSTART;VALUE=DATE:20251108
DTEND;VALUE=DATE:20251110
DTSTAMP:20260421T204241
CREATED:20250219T091929Z
LAST-MODIFIED:20251001T144950Z
UID:3908-1762560000-1762732799@wvrpc.org
SUMMARY:2025 Honor Flight 2 Gun Charity Match
DESCRIPTION:Ranges 1 thru 8 \nCenterfire Showdown on November 8 \nRimfire Rampage on November 9
URL:https://wvrpc.org/event/honor-flight-2-gun-charity-match/
LOCATION:Wildcat Valley R and P Club\, 12094 SOUTH 300 EAST\, BROOKSTON\, IN\, 47923\, United States
CATEGORIES:Special Event
END:VEVENT
BEGIN:VEVENT
DTSTART;TZID=America/Indiana/Indianapolis:20251109T080000
DTEND;TZID=America/Indiana/Indianapolis:20251109T150000
DTSTAMP:20260421T204241
CREATED:20250219T091927Z
LAST-MODIFIED:20251002T094718Z
UID:3905-1762675200-1762700400@wvrpc.org
SUMMARY:ICORE Weather Permitting
DESCRIPTION:Weather Permitting \nSetup 8:00 AM Registration 9:00 AM \nMatch 10:00 AM\n(Ranges 3 – 7)
URL:https://wvrpc.org/event/icore-32/
LOCATION:Wildcat Valley R and P Club\, 12094 SOUTH 300 EAST\, BROOKSTON\, IN\, 47923\, United States
CATEGORIES:ICORE
END:VEVENT
BEGIN:VEVENT
DTSTART;TZID=America/Indiana/Indianapolis:20251109T103000
DTEND;TZID=America/Indiana/Indianapolis:20251109T170000
DTSTAMP:20260421T204241
CREATED:20250219T091928Z
LAST-MODIFIED:20250721T191018Z
UID:3906-1762684200-1762707600@wvrpc.org
SUMMARY:NRL22
DESCRIPTION:Setup/Reg 10:30 AMMatch 1:15 PM\nRange 1
URL:https://wvrpc.org/event/nrl22-44/
LOCATION:Wildcat Valley R and P Club\, 12094 SOUTH 300 EAST\, BROOKSTON\, IN\, 47923\, United States
CATEGORIES:NRL-22
END:VEVENT
BEGIN:VEVENT
DTSTART;TZID=America/Indiana/Indianapolis:20251112T193000
DTEND;TZID=America/Indiana/Indianapolis:20251112T203000
DTSTAMP:20260421T204241
CREATED:20250219T091929Z
LAST-MODIFIED:20250219T095113Z
UID:3907-1762975800-1762979400@wvrpc.org
SUMMARY:Club Elections
DESCRIPTION:Clubhouse
URL:https://wvrpc.org/event/club-elections-4/
LOCATION:Wildcat Valley R and P Club\, 12094 SOUTH 300 EAST\, BROOKSTON\, IN\, 47923\, United States
CATEGORIES:Membership Meetings
END:VEVENT
BEGIN:VEVENT
DTSTART;TZID=America/Indiana/Indianapolis:20251119T193000
DTEND;TZID=America/Indiana/Indianapolis:20251119T203000
DTSTAMP:20260421T204241
CREATED:20250219T091929Z
LAST-MODIFIED:20250219T095114Z
UID:3909-1763580600-1763584200@wvrpc.org
SUMMARY:Exec Meeting
DESCRIPTION:Clubhouse
URL:https://wvrpc.org/event/exec-meeting-43/
LOCATION:Wildcat Valley R and P Club\, 12094 SOUTH 300 EAST\, BROOKSTON\, IN\, 47923\, United States
CATEGORIES:Executive Board Meetings
END:VEVENT
BEGIN:VEVENT
DTSTART;TZID=America/Indiana/Indianapolis:20251122T100000
DTEND;TZID=America/Indiana/Indianapolis:20251122T180000
DTSTAMP:20260421T204241
CREATED:20250219T091942Z
LAST-MODIFIED:20250409T173659Z
UID:3910-1763805600-1763834400@wvrpc.org
SUMMARY:PCSL
DESCRIPTION:Setup 10:00 AMMatch 1:00 PM\n(Ranges 1\, 3 thru 8)
URL:https://wvrpc.org/event/pcsl-33/
LOCATION:Wildcat Valley R and P Club\, 12094 SOUTH 300 EAST\, BROOKSTON\, IN\, 47923\, United States
CATEGORIES:PCSL
END:VEVENT
END:VCALENDAR