BEGIN:VCALENDAR
VERSION:2.0
PRODID:-//Wildcat Valley Rifle &amp; Pistol Club - ECPv6.15.20//NONSGML v1.0//EN
CALSCALE:GREGORIAN
METHOD:PUBLISH
X-ORIGINAL-URL:https://wvrpc.org
X-WR-CALDESC:Events for Wildcat Valley Rifle &amp; Pistol Club
REFRESH-INTERVAL;VALUE=DURATION:PT1H
X-Robots-Tag:noindex
X-PUBLISHED-TTL:PT1H
BEGIN:VTIMEZONE
TZID:UTC
BEGIN:STANDARD
TZOFFSETFROM:+0000
TZOFFSETTO:+0000
TZNAME:UTC
DTSTART:20210101T000000
END:STANDARD
END:VTIMEZONE
BEGIN:VTIMEZONE
TZID:America/Indiana/Indianapolis
BEGIN:DAYLIGHT
TZOFFSETFROM:-0500
TZOFFSETTO:-0400
TZNAME:EDT
DTSTART:20210314T070000
END:DAYLIGHT
BEGIN:STANDARD
TZOFFSETFROM:-0400
TZOFFSETTO:-0500
TZNAME:EST
DTSTART:20211107T060000
END:STANDARD
BEGIN:DAYLIGHT
TZOFFSETFROM:-0500
TZOFFSETTO:-0400
TZNAME:EDT
DTSTART:20220313T070000
END:DAYLIGHT
BEGIN:STANDARD
TZOFFSETFROM:-0400
TZOFFSETTO:-0500
TZNAME:EST
DTSTART:20221106T060000
END:STANDARD
BEGIN:DAYLIGHT
TZOFFSETFROM:-0500
TZOFFSETTO:-0400
TZNAME:EDT
DTSTART:20230312T070000
END:DAYLIGHT
BEGIN:STANDARD
TZOFFSETFROM:-0400
TZOFFSETTO:-0500
TZNAME:EST
DTSTART:20231105T060000
END:STANDARD
END:VTIMEZONE
BEGIN:VEVENT
DTSTART;TZID=UTC:20220102T090000
DTEND;TZID=UTC:20220102T090000
DTSTAMP:20260424T184020
CREATED:20210224T223052Z
LAST-MODIFIED:20211231T185819Z
UID:1332-1641114000-1641114000@wvrpc.org
SUMMARY:Highpower Snow Snake
DESCRIPTION:Range 1
URL:https://wvrpc.org/event/highpower-snow-snake/
CATEGORIES:Highpower
END:VEVENT
BEGIN:VEVENT
DTSTART;TZID=UTC:20220105T193000
DTEND;TZID=UTC:20220105T193000
DTSTAMP:20260424T184020
CREATED:20210224T223055Z
LAST-MODIFIED:20210224T225625Z
UID:1334-1641411000-1641411000@wvrpc.org
SUMMARY:January Membership Meeting
DESCRIPTION:Clubhouse
URL:https://wvrpc.org/event/january-membership-meeting/
CATEGORIES:Membership Meetings
END:VEVENT
BEGIN:VEVENT
DTSTART;TZID=UTC:20220109T103000
DTEND;TZID=UTC:20220109T103000
DTSTAMP:20260424T184020
CREATED:20210224T223055Z
LAST-MODIFIED:20210224T225625Z
UID:1333-1641724200-1641724200@wvrpc.org
SUMMARY:NRL-22 Match
DESCRIPTION:Range 1 & ClubhouseSetup 10:30AM\nRegistration 1:30PM
URL:https://wvrpc.org/event/nrl-22-match-10/
CATEGORIES:NRL-22
END:VEVENT
BEGIN:VEVENT
DTSTART;TZID=America/Indiana/Indianapolis:20220125T183000
DTEND;TZID=America/Indiana/Indianapolis:20220125T193000
DTSTAMP:20260424T184020
CREATED:20220107T210110Z
LAST-MODIFIED:20220107T210952Z
UID:1734-1643135400-1643139000@wvrpc.org
SUMMARY:US Law Shield Presentation
DESCRIPTION:US Law Shield will be at the clubhouse for a presentation on ‘Laws of Concealed Carry’ and ‘Traveling with a Fire Arm’.
URL:https://wvrpc.org/event/us-law-shield-presentation/
LOCATION:Wildcat Valley R and P Club\, 12094 SOUTH 300 EAST\, BROOKSTON\, IN\, 47923\, United States
END:VEVENT
BEGIN:VEVENT
DTSTART;TZID=UTC:20220126T193000
DTEND;TZID=UTC:20220126T193000
DTSTAMP:20260424T184020
CREATED:20210224T223056Z
LAST-MODIFIED:20210224T225625Z
UID:1335-1643225400-1643225400@wvrpc.org
SUMMARY:Executive Board Meeting
DESCRIPTION:Clubhouse
URL:https://wvrpc.org/event/executive-board-meeting-10/
CATEGORIES:Executive Board Meetings
END:VEVENT
END:VCALENDAR