BEGIN:VCALENDAR
VERSION:2.0
PRODID:-//Wildcat Valley Rifle &amp; Pistol Club - ECPv6.15.20//NONSGML v1.0//EN
CALSCALE:GREGORIAN
METHOD:PUBLISH
X-WR-CALNAME:Wildcat Valley Rifle &amp; Pistol Club
X-ORIGINAL-URL:https://wvrpc.org
X-WR-CALDESC:Events for Wildcat Valley Rifle &amp; Pistol Club
REFRESH-INTERVAL;VALUE=DURATION:PT1H
X-Robots-Tag:noindex
X-PUBLISHED-TTL:PT1H
BEGIN:VTIMEZONE
TZID:America/Indiana/Indianapolis
BEGIN:DAYLIGHT
TZOFFSETFROM:-0500
TZOFFSETTO:-0400
TZNAME:EDT
DTSTART:20260308T070000
END:DAYLIGHT
BEGIN:STANDARD
TZOFFSETFROM:-0400
TZOFFSETTO:-0500
TZNAME:EST
DTSTART:20261101T060000
END:STANDARD
BEGIN:DAYLIGHT
TZOFFSETFROM:-0500
TZOFFSETTO:-0400
TZNAME:EDT
DTSTART:20270314T070000
END:DAYLIGHT
BEGIN:STANDARD
TZOFFSETFROM:-0400
TZOFFSETTO:-0500
TZNAME:EST
DTSTART:20271107T060000
END:STANDARD
BEGIN:DAYLIGHT
TZOFFSETFROM:-0500
TZOFFSETTO:-0400
TZNAME:EDT
DTSTART:20280312T070000
END:DAYLIGHT
BEGIN:STANDARD
TZOFFSETFROM:-0400
TZOFFSETTO:-0500
TZNAME:EST
DTSTART:20281105T060000
END:STANDARD
END:VTIMEZONE
BEGIN:VEVENT
DTSTART;TZID=America/Indiana/Indianapolis:20270127T193000
DTEND;TZID=America/Indiana/Indianapolis:20270127T203000
DTSTAMP:20260421T043943
CREATED:20260117T194222Z
LAST-MODIFIED:20260117T194222Z
UID:4631-1801078200-1801081800@wvrpc.org
SUMMARY:Exec Meeting
DESCRIPTION:Clubhouse
URL:https://wvrpc.org/event/exec-meeting-55/
LOCATION:Wildcat Valley R and P Club\, 12094 SOUTH 300 EAST\, BROOKSTON\, IN\, 47923\, United States
CATEGORIES:Executive Board Meetings
END:VEVENT
BEGIN:VEVENT
DTSTART;TZID=America/Indiana/Indianapolis:20270203T193000
DTEND;TZID=America/Indiana/Indianapolis:20270203T203000
DTSTAMP:20260421T043943
CREATED:20260117T194223Z
LAST-MODIFIED:20260117T194223Z
UID:4632-1801683000-1801686600@wvrpc.org
SUMMARY:Club Meeting
DESCRIPTION:Clubhouse
URL:https://wvrpc.org/event/club-meeting-60/
LOCATION:Wildcat Valley R and P Club\, 12094 SOUTH 300 EAST\, BROOKSTON\, IN\, 47923\, United States
CATEGORIES:Membership Meetings
END:VEVENT
BEGIN:VEVENT
DTSTART;TZID=America/Indiana/Indianapolis:20270224T193000
DTEND;TZID=America/Indiana/Indianapolis:20270224T203000
DTSTAMP:20260421T043943
CREATED:20260117T194236Z
LAST-MODIFIED:20260117T194236Z
UID:4636-1803497400-1803501000@wvrpc.org
SUMMARY:Exec Meeting
DESCRIPTION:Clubhouse
URL:https://wvrpc.org/event/exec-meeting-56/
LOCATION:Wildcat Valley R and P Club\, 12094 SOUTH 300 EAST\, BROOKSTON\, IN\, 47923\, United States
CATEGORIES:Executive Board Meetings
END:VEVENT
END:VCALENDAR