BEGIN:VCALENDAR
VERSION:2.0
PRODID:-//Wildcat Valley Rifle &amp; Pistol Club - ECPv6.15.20//NONSGML v1.0//EN
CALSCALE:GREGORIAN
METHOD:PUBLISH
X-WR-CALNAME:Wildcat Valley Rifle &amp; Pistol Club
X-ORIGINAL-URL:https://wvrpc.org
X-WR-CALDESC:Events for Wildcat Valley Rifle &amp; Pistol Club
REFRESH-INTERVAL;VALUE=DURATION:PT1H
X-Robots-Tag:noindex
X-PUBLISHED-TTL:PT1H
BEGIN:VTIMEZONE
TZID:America/Indiana/Indianapolis
BEGIN:DAYLIGHT
TZOFFSETFROM:-0500
TZOFFSETTO:-0400
TZNAME:EDT
DTSTART:20210314T070000
END:DAYLIGHT
BEGIN:STANDARD
TZOFFSETFROM:-0400
TZOFFSETTO:-0500
TZNAME:EST
DTSTART:20211107T060000
END:STANDARD
BEGIN:DAYLIGHT
TZOFFSETFROM:-0500
TZOFFSETTO:-0400
TZNAME:EDT
DTSTART:20220313T070000
END:DAYLIGHT
BEGIN:STANDARD
TZOFFSETFROM:-0400
TZOFFSETTO:-0500
TZNAME:EST
DTSTART:20221106T060000
END:STANDARD
BEGIN:DAYLIGHT
TZOFFSETFROM:-0500
TZOFFSETTO:-0400
TZNAME:EDT
DTSTART:20230312T070000
END:DAYLIGHT
BEGIN:STANDARD
TZOFFSETFROM:-0400
TZOFFSETTO:-0500
TZNAME:EST
DTSTART:20231105T060000
END:STANDARD
BEGIN:DAYLIGHT
TZOFFSETFROM:-0500
TZOFFSETTO:-0400
TZNAME:EDT
DTSTART:20240310T070000
END:DAYLIGHT
BEGIN:STANDARD
TZOFFSETFROM:-0400
TZOFFSETTO:-0500
TZNAME:EST
DTSTART:20241103T060000
END:STANDARD
END:VTIMEZONE
BEGIN:VEVENT
DTSTART;TZID=America/Indiana/Indianapolis:20221011T170000
DTEND;TZID=America/Indiana/Indianapolis:20221011T200000
DTSTAMP:20260422T182612
CREATED:20220209T173226Z
LAST-MODIFIED:20220209T173226Z
UID:2096-1665507600-1665518400@wvrpc.org
SUMMARY:High Power League
DESCRIPTION:Range 1
URL:https://wvrpc.org/event/high-power-league-30/
LOCATION:Wildcat Valley R and P Club\, 12094 SOUTH 300 EAST\, BROOKSTON\, IN\, 47923\, United States
CATEGORIES:Highpower
END:VEVENT
BEGIN:VEVENT
DTSTART;TZID=America/Indiana/Indianapolis:20221015T080000
DTEND;TZID=America/Indiana/Indianapolis:20221015T170000
DTSTAMP:20260422T182612
CREATED:20220209T173226Z
LAST-MODIFIED:20220209T173226Z
UID:2097-1665820800-1665853200@wvrpc.org
SUMMARY:Cowboy Match
DESCRIPTION:Stating 8:00 AMRanges 3 – 8 & Clubhose
URL:https://wvrpc.org/event/cowboy-match-16/
LOCATION:Wildcat Valley R and P Club\, 12094 SOUTH 300 EAST\, BROOKSTON\, IN\, 47923\, United States
CATEGORIES:Cowboy
END:VEVENT
BEGIN:VEVENT
DTSTART;TZID=America/Indiana/Indianapolis:20221018T170000
DTEND;TZID=America/Indiana/Indianapolis:20221018T200000
DTSTAMP:20260422T182612
CREATED:20220209T173226Z
LAST-MODIFIED:20220209T173226Z
UID:2098-1666112400-1666123200@wvrpc.org
SUMMARY:High Power League
DESCRIPTION:Range 1
URL:https://wvrpc.org/event/high-power-league-31/
LOCATION:Wildcat Valley R and P Club\, 12094 SOUTH 300 EAST\, BROOKSTON\, IN\, 47923\, United States
CATEGORIES:Highpower
END:VEVENT
BEGIN:VEVENT
DTSTART;TZID=America/Indiana/Indianapolis:20221021T160000
DTEND;TZID=America/Indiana/Indianapolis:20221021T190000
DTSTAMP:20260422T182612
CREATED:20220209T173227Z
LAST-MODIFIED:20221018T173710Z
UID:2099-1666368000-1666378800@wvrpc.org
SUMMARY:Steel Challenge Setup - CANCELLED
DESCRIPTION:Ranges 3 – 7
URL:https://wvrpc.org/event/steel-challenge-setup-10/
LOCATION:Wildcat Valley R and P Club\, 12094 SOUTH 300 EAST\, BROOKSTON\, IN\, 47923\, United States
CATEGORIES:Steel Challenge
END:VEVENT
BEGIN:VEVENT
DTSTART;TZID=America/Indiana/Indianapolis:20221022T080000
DTEND;TZID=America/Indiana/Indianapolis:20221022T140000
DTSTAMP:20260422T182612
CREATED:20220209T173426Z
LAST-MODIFIED:20220209T173426Z
UID:2101-1666425600-1666447200@wvrpc.org
SUMMARY:Highpower CMP Cup Match
DESCRIPTION:Range 1
URL:https://wvrpc.org/event/highpower-cmp-cup-match-20/
LOCATION:Wildcat Valley R and P Club\, 12094 SOUTH 300 EAST\, BROOKSTON\, IN\, 47923\, United States
CATEGORIES:Highpower
END:VEVENT
BEGIN:VEVENT
DTSTART;TZID=America/Indiana/Indianapolis:20221022T080000
DTEND;TZID=America/Indiana/Indianapolis:20221022T170000
DTSTAMP:20260422T182612
CREATED:20220209T173426Z
LAST-MODIFIED:20220209T173426Z
UID:2100-1666425600-1666458000@wvrpc.org
SUMMARY:Junior Club
DESCRIPTION:Clubhouse
URL:https://wvrpc.org/event/junior-club-26/
LOCATION:Wildcat Valley R and P Club\, 12094 SOUTH 300 EAST\, BROOKSTON\, IN\, 47923\, United States
CATEGORIES:Junior Club
END:VEVENT
BEGIN:VEVENT
DTSTART;TZID=America/Indiana/Indianapolis:20221022T100000
DTEND;TZID=America/Indiana/Indianapolis:20221022T170000
DTSTAMP:20260422T182612
CREATED:20220209T173427Z
LAST-MODIFIED:20221018T173655Z
UID:2102-1666432800-1666458000@wvrpc.org
SUMMARY:Steel Challenge - CANCELLED
DESCRIPTION:Registration 10:00 AMMatch 11:00 AM\nRanges 3 – 7 & Clubhouse
URL:https://wvrpc.org/event/steel-challenge-9/
LOCATION:Wildcat Valley R and P Club\, 12094 SOUTH 300 EAST\, BROOKSTON\, IN\, 47923\, United States
CATEGORIES:Steel Challenge
END:VEVENT
BEGIN:VEVENT
DTSTART;TZID=America/Indiana/Indianapolis:20221025T170000
DTEND;TZID=America/Indiana/Indianapolis:20221025T200000
DTSTAMP:20260422T182612
CREATED:20220209T173427Z
LAST-MODIFIED:20220209T173427Z
UID:2103-1666717200-1666728000@wvrpc.org
SUMMARY:High Power League
DESCRIPTION:Range 1
URL:https://wvrpc.org/event/high-power-league-32/
LOCATION:Wildcat Valley R and P Club\, 12094 SOUTH 300 EAST\, BROOKSTON\, IN\, 47923\, United States
CATEGORIES:Highpower
END:VEVENT
BEGIN:VEVENT
DTSTART;TZID=America/Indiana/Indianapolis:20221030T110000
DTEND;TZID=America/Indiana/Indianapolis:20221030T110000
DTSTAMP:20260422T182612
CREATED:20220209T173627Z
LAST-MODIFIED:20220209T173627Z
UID:2105-1667127600-1667127600@wvrpc.org
SUMMARY:Boomstick Challenge
DESCRIPTION:Range 4 – 7
URL:https://wvrpc.org/event/boomstick-challenge-2/
LOCATION:Wildcat Valley R and P Club\, 12094 SOUTH 300 EAST\, BROOKSTON\, IN\, 47923\, United States
CATEGORIES:Boomstick
END:VEVENT
BEGIN:VEVENT
DTSTART;TZID=America/Indiana/Indianapolis:20221105T073000
DTEND;TZID=America/Indiana/Indianapolis:20221105T160000
DTSTAMP:20260422T182612
CREATED:20220209T173628Z
LAST-MODIFIED:20220209T173628Z
UID:2107-1667633400-1667664000@wvrpc.org
SUMMARY:USPSA
DESCRIPTION:Setup 7:30 AMMatch 11:00 AM\nRanges 3-8 & Clubhouse
URL:https://wvrpc.org/event/uspsa-9/
LOCATION:Wildcat Valley R and P Club\, 12094 SOUTH 300 EAST\, BROOKSTON\, IN\, 47923\, United States
CATEGORIES:USPSA
END:VEVENT
BEGIN:VEVENT
DTSTART;TZID=America/Indiana/Indianapolis:20221106T090000
DTEND;TZID=America/Indiana/Indianapolis:20221106T170000
DTSTAMP:20260422T182612
CREATED:20220209T173629Z
LAST-MODIFIED:20221104T122919Z
UID:2109-1667725200-1667754000@wvrpc.org
SUMMARY:Rimfire Falling Steel - CANCELLED
DESCRIPTION:Registration 9:00 AMMatch 10:00 AM\n(Ranges 3 – 7)
URL:https://wvrpc.org/event/rimfire-falling-steel-9/
LOCATION:Wildcat Valley R and P Club\, 12094 SOUTH 300 EAST\, BROOKSTON\, IN\, 47923\, United States
CATEGORIES:RFS
END:VEVENT
BEGIN:VEVENT
DTSTART;TZID=America/Indiana/Indianapolis:20221111T160000
DTEND;TZID=America/Indiana/Indianapolis:20221111T200000
DTSTAMP:20260422T182612
CREATED:20220802T124244Z
LAST-MODIFIED:20220802T124244Z
UID:2273-1668182400-1668196800@wvrpc.org
SUMMARY:2022 Honor Flight 2 Gun Charity Match Setup
DESCRIPTION:**** Ranges 1 – 8 ****
URL:https://wvrpc.org/event/2022-honor-flight-2-gun-charity-match-setup/
LOCATION:Wildcat Valley R and P Club\, 12094 SOUTH 300 EAST\, BROOKSTON\, IN\, 47923\, United States
CATEGORIES:Special Event
END:VEVENT
BEGIN:VEVENT
DTSTART;TZID=America/Indiana/Indianapolis:20221112T080000
DTEND;TZID=America/Indiana/Indianapolis:20221112T170000
DTSTAMP:20260422T182612
CREATED:20220802T123928Z
LAST-MODIFIED:20220802T123928Z
UID:2269-1668240000-1668272400@wvrpc.org
SUMMARY:2022 Honor Flight 2 Gun Charity Match
DESCRIPTION:Ladies and gentlemen:\nMark your calendar! After a two year hiatus\, Wildcat Valley Rifle & Pistol club will again be hosting our Honor Flight 2 gun charity match November 12th. All targets\, labor and space has been generously donated by the great men and women of WVRPC. This means every single penny that comes in will go straight to Honor Flight of Greater Lafayette.\nMore info to come\, just remember the date.\n\n****Ranges 1 – 8 will be used for the event***
URL:https://wvrpc.org/event/2022-honor-flight-2-gun-charity-match/
LOCATION:Wildcat Valley R and P Club\, 12094 SOUTH 300 EAST\, BROOKSTON\, IN\, 47923\, United States
CATEGORIES:Special Event
END:VEVENT
BEGIN:VEVENT
DTSTART;TZID=America/Indiana/Indianapolis:20221113T103000
DTEND;TZID=America/Indiana/Indianapolis:20221113T170000
DTSTAMP:20260422T182612
CREATED:20220209T173828Z
LAST-MODIFIED:20220505T113907Z
UID:2111-1668335400-1668358800@wvrpc.org
SUMMARY:NRL22
DESCRIPTION:Setup 10:30 AMRegistration 1:15 PM\nMatch 2 PM\nRange 1
URL:https://wvrpc.org/event/nrl22-9/
LOCATION:Wildcat Valley R and P Club\, 12094 SOUTH 300 EAST\, BROOKSTON\, IN\, 47923\, United States
CATEGORIES:NRL-22
END:VEVENT
BEGIN:VEVENT
DTSTART;TZID=America/Indiana/Indianapolis:20221211T103000
DTEND;TZID=America/Indiana/Indianapolis:20221211T170000
DTSTAMP:20260422T182612
CREATED:20220209T173830Z
LAST-MODIFIED:20220505T113907Z
UID:2114-1670754600-1670778000@wvrpc.org
SUMMARY:NRL22
DESCRIPTION:Setup 10:30 AMRegistration 1:15 PM\nMatch 2 PM\nRange 1
URL:https://wvrpc.org/event/nrl22-10/
LOCATION:Wildcat Valley R and P Club\, 12094 SOUTH 300 EAST\, BROOKSTON\, IN\, 47923\, United States
CATEGORIES:NRL-22
END:VEVENT
BEGIN:VEVENT
DTSTART;TZID=America/Indiana/Indianapolis:20230101T090000
DTEND;TZID=America/Indiana/Indianapolis:20230101T150000
DTSTAMP:20260422T182612
CREATED:20220209T174030Z
LAST-MODIFIED:20220209T174030Z
UID:2115-1672563600-1672585200@wvrpc.org
SUMMARY:Highpower Snow Snake
DESCRIPTION:Range 1
URL:https://wvrpc.org/event/highpower-snow-snake-2/
LOCATION:Wildcat Valley R and P Club\, 12094 SOUTH 300 EAST\, BROOKSTON\, IN\, 47923\, United States
CATEGORIES:Highpower
END:VEVENT
BEGIN:VEVENT
DTSTART;TZID=America/Indiana/Indianapolis:20230108T103000
DTEND;TZID=America/Indiana/Indianapolis:20230108T170000
DTSTAMP:20260422T182612
CREATED:20220209T174031Z
LAST-MODIFIED:20220505T113923Z
UID:2117-1673173800-1673197200@wvrpc.org
SUMMARY:NRL22
DESCRIPTION:Setup 10:30 AMRegistration 1:15 PM\nMatch 2 PM\nRange 1
URL:https://wvrpc.org/event/nrl22-11/
LOCATION:Wildcat Valley R and P Club\, 12094 SOUTH 300 EAST\, BROOKSTON\, IN\, 47923\, United States
CATEGORIES:NRL-22
END:VEVENT
BEGIN:VEVENT
DTSTART;TZID=America/Indiana/Indianapolis:20230212T103000
DTEND;TZID=America/Indiana/Indianapolis:20230212T170000
DTSTAMP:20260422T182612
CREATED:20220209T175322Z
LAST-MODIFIED:20220505T113923Z
UID:2120-1676197800-1676221200@wvrpc.org
SUMMARY:NRL22
DESCRIPTION:Setup 10:30 AMRegistration 1:15 PM\nMatch 2 PM\nRange 1
URL:https://wvrpc.org/event/nrl22-12/
LOCATION:Wildcat Valley R and P Club\, 12094 SOUTH 300 EAST\, BROOKSTON\, IN\, 47923\, United States
CATEGORIES:NRL-22
END:VEVENT
BEGIN:VEVENT
DTSTART;TZID=America/Indiana/Indianapolis:20230301T160000
DTEND;TZID=America/Indiana/Indianapolis:20230301T180000
DTSTAMP:20260422T182612
CREATED:20230201T184030Z
LAST-MODIFIED:20230201T192750Z
UID:2395-1677686400-1677693600@wvrpc.org
SUMMARY:HHS Trap
DESCRIPTION:Harrision High School(TrapRanges 9 & 10)
URL:https://wvrpc.org/event/hhs-trap-43/
LOCATION:Wildcat Valley R and P Club\, 12094 SOUTH 300 EAST\, BROOKSTON\, IN\, 47923\, United States
CATEGORIES:Trap
END:VEVENT
BEGIN:VEVENT
DTSTART;TZID=America/Indiana/Indianapolis:20230302T160000
DTEND;TZID=America/Indiana/Indianapolis:20230302T180000
DTSTAMP:20260422T182612
CREATED:20230201T184031Z
LAST-MODIFIED:20230201T192750Z
UID:2396-1677772800-1677780000@wvrpc.org
SUMMARY:HHS Rain Date
DESCRIPTION:Harrision High School(TrapRanges 9 & 10)
URL:https://wvrpc.org/event/hhs-rain-date-38/
LOCATION:Wildcat Valley R and P Club\, 12094 SOUTH 300 EAST\, BROOKSTON\, IN\, 47923\, United States
CATEGORIES:Trap
END:VEVENT
BEGIN:VEVENT
DTSTART;TZID=America/Indiana/Indianapolis:20230304T073000
DTEND;TZID=America/Indiana/Indianapolis:20230304T160000
DTSTAMP:20260422T182612
CREATED:20230201T184031Z
LAST-MODIFIED:20230201T192750Z
UID:2397-1677915000-1677945600@wvrpc.org
SUMMARY:USPSA
DESCRIPTION:Setup 7:30 AMMatch 11:00 AM\n(Ranges 3 thru 8 & Clubhouse)
URL:https://wvrpc.org/event/uspsa-10/
LOCATION:Wildcat Valley R and P Club\, 12094 SOUTH 300 EAST\, BROOKSTON\, IN\, 47923\, United States
CATEGORIES:USPSA
END:VEVENT
BEGIN:VEVENT
DTSTART;TZID=America/Indiana/Indianapolis:20230305T070000
DTEND;TZID=America/Indiana/Indianapolis:20230305T070000
DTSTAMP:20260422T182612
CREATED:20230201T184031Z
LAST-MODIFIED:20230301T113512Z
UID:2398-1677999600-1677999600@wvrpc.org
SUMMARY:Rimfire Falling Steel (Cancelled)
DESCRIPTION:*****Cancelled*****
URL:https://wvrpc.org/event/rimfire-falling-steel-10/
LOCATION:Wildcat Valley R and P Club\, 12094 SOUTH 300 EAST\, BROOKSTON\, IN\, 47923\, United States
CATEGORIES:RFS
END:VEVENT
BEGIN:VEVENT
DTSTART;TZID=America/Indiana/Indianapolis:20230308T160000
DTEND;TZID=America/Indiana/Indianapolis:20230308T180000
DTSTAMP:20260422T182612
CREATED:20230201T184032Z
LAST-MODIFIED:20230201T192752Z
UID:2399-1678291200-1678298400@wvrpc.org
SUMMARY:HHS Trap
DESCRIPTION:Harrision High School(TrapRanges 9 & 10)
URL:https://wvrpc.org/event/hhs-trap-44/
LOCATION:Wildcat Valley R and P Club\, 12094 SOUTH 300 EAST\, BROOKSTON\, IN\, 47923\, United States
CATEGORIES:Trap
END:VEVENT
BEGIN:VEVENT
DTSTART;TZID=America/Indiana/Indianapolis:20230309T160000
DTEND;TZID=America/Indiana/Indianapolis:20230309T180000
DTSTAMP:20260422T182612
CREATED:20230201T184033Z
LAST-MODIFIED:20230201T192752Z
UID:2400-1678377600-1678384800@wvrpc.org
SUMMARY:HHS Rain Date
DESCRIPTION:Harrision High School(TrapRanges 9 & 10)
URL:https://wvrpc.org/event/hhs-rain-date-39/
LOCATION:Wildcat Valley R and P Club\, 12094 SOUTH 300 EAST\, BROOKSTON\, IN\, 47923\, United States
CATEGORIES:Trap
END:VEVENT
BEGIN:VEVENT
DTSTART;TZID=America/Indiana/Indianapolis:20230311T130000
DTEND;TZID=America/Indiana/Indianapolis:20230311T180000
DTSTAMP:20260422T182612
CREATED:20230201T184033Z
LAST-MODIFIED:20230201T201152Z
UID:2401-1678539600-1678557600@wvrpc.org
SUMMARY:PCSL
DESCRIPTION:Setup 1:00 PMMatch 3:00 PM\n(Ranges 3 thru 8)
URL:https://wvrpc.org/event/pcsl/
LOCATION:Wildcat Valley R and P Club\, 12094 SOUTH 300 EAST\, BROOKSTON\, IN\, 47923\, United States
CATEGORIES:PCSL
END:VEVENT
BEGIN:VEVENT
DTSTART;TZID=America/Indiana/Indianapolis:20230312T090000
DTEND;TZID=America/Indiana/Indianapolis:20230312T150000
DTSTAMP:20260422T182612
CREATED:20230201T184033Z
LAST-MODIFIED:20230311T123805Z
UID:2402-1678611600-1678633200@wvrpc.org
SUMMARY:ICORE (Cancelled)
DESCRIPTION:*****Cancelled*****
URL:https://wvrpc.org/event/icore-9/
LOCATION:Wildcat Valley R and P Club\, 12094 SOUTH 300 EAST\, BROOKSTON\, IN\, 47923\, United States
CATEGORIES:ICORE
END:VEVENT
BEGIN:VEVENT
DTSTART;TZID=America/Indiana/Indianapolis:20230312T103000
DTEND;TZID=America/Indiana/Indianapolis:20230312T170000
DTSTAMP:20260422T182612
CREATED:20230201T184033Z
LAST-MODIFIED:20230201T192752Z
UID:2403-1678617000-1678640400@wvrpc.org
SUMMARY:NRL22
DESCRIPTION:Setup/Reg 10:30 AMMatch 1:15 PM\n(Range 1)
URL:https://wvrpc.org/event/nrl22-13/
LOCATION:Wildcat Valley R and P Club\, 12094 SOUTH 300 EAST\, BROOKSTON\, IN\, 47923\, United States
CATEGORIES:NRL-22
END:VEVENT
BEGIN:VEVENT
DTSTART;TZID=America/Indiana/Indianapolis:20230315T160000
DTEND;TZID=America/Indiana/Indianapolis:20230315T180000
DTSTAMP:20260422T182612
CREATED:20230201T184048Z
LAST-MODIFIED:20230201T192807Z
UID:2404-1678896000-1678903200@wvrpc.org
SUMMARY:HHS Trap
DESCRIPTION:Harrision High School(TrapRanges 9 & 10)
URL:https://wvrpc.org/event/hhs-trap-45/
LOCATION:Wildcat Valley R and P Club\, 12094 SOUTH 300 EAST\, BROOKSTON\, IN\, 47923\, United States
CATEGORIES:Trap
END:VEVENT
BEGIN:VEVENT
DTSTART;TZID=America/Indiana/Indianapolis:20230316T160000
DTEND;TZID=America/Indiana/Indianapolis:20230316T180000
DTSTAMP:20260422T182612
CREATED:20230201T184049Z
LAST-MODIFIED:20230201T192807Z
UID:2405-1678982400-1678989600@wvrpc.org
SUMMARY:HHS Rain Date
DESCRIPTION:Harrision High School(TrapRanges 9 & 10)
URL:https://wvrpc.org/event/hhs-rain-date-40/
LOCATION:Wildcat Valley R and P Club\, 12094 SOUTH 300 EAST\, BROOKSTON\, IN\, 47923\, United States
CATEGORIES:Trap
END:VEVENT
BEGIN:VEVENT
DTSTART;TZID=America/Indiana/Indianapolis:20230318T080000
DTEND;TZID=America/Indiana/Indianapolis:20230318T170000
DTSTAMP:20260422T182612
CREATED:20230201T184049Z
LAST-MODIFIED:20230201T192807Z
UID:2406-1679126400-1679158800@wvrpc.org
SUMMARY:Cowboy Match
DESCRIPTION:Stating 8:00 AM(Ranges 3 thru 8 & Clubhouse)
URL:https://wvrpc.org/event/cowboy-match-17/
LOCATION:Wildcat Valley R and P Club\, 12094 SOUTH 300 EAST\, BROOKSTON\, IN\, 47923\, United States
CATEGORIES:Cowboy
END:VEVENT
END:VCALENDAR