BEGIN:VCALENDAR
VERSION:2.0
PRODID:-//Wildcat Valley Rifle &amp; Pistol Club - ECPv6.15.20//NONSGML v1.0//EN
CALSCALE:GREGORIAN
METHOD:PUBLISH
X-ORIGINAL-URL:https://wvrpc.org
X-WR-CALDESC:Events for Wildcat Valley Rifle &amp; Pistol Club
REFRESH-INTERVAL;VALUE=DURATION:PT1H
X-Robots-Tag:noindex
X-PUBLISHED-TTL:PT1H
BEGIN:VTIMEZONE
TZID:America/Indiana/Indianapolis
BEGIN:DAYLIGHT
TZOFFSETFROM:-0500
TZOFFSETTO:-0400
TZNAME:EDT
DTSTART:20220313T070000
END:DAYLIGHT
BEGIN:STANDARD
TZOFFSETFROM:-0400
TZOFFSETTO:-0500
TZNAME:EST
DTSTART:20221106T060000
END:STANDARD
BEGIN:DAYLIGHT
TZOFFSETFROM:-0500
TZOFFSETTO:-0400
TZNAME:EDT
DTSTART:20230312T070000
END:DAYLIGHT
BEGIN:STANDARD
TZOFFSETFROM:-0400
TZOFFSETTO:-0500
TZNAME:EST
DTSTART:20231105T060000
END:STANDARD
BEGIN:DAYLIGHT
TZOFFSETFROM:-0500
TZOFFSETTO:-0400
TZNAME:EDT
DTSTART:20240310T070000
END:DAYLIGHT
BEGIN:STANDARD
TZOFFSETFROM:-0400
TZOFFSETTO:-0500
TZNAME:EST
DTSTART:20241103T060000
END:STANDARD
END:VTIMEZONE
BEGIN:VEVENT
DTSTART;TZID=America/Indiana/Indianapolis:20230513T133000
DTEND;TZID=America/Indiana/Indianapolis:20230513T210000
DTSTAMP:20260420T115716
CREATED:20230411T150431Z
LAST-MODIFIED:20230411T193942Z
UID:2947-1683984600-1684011600@wvrpc.org
SUMMARY:PCSL
DESCRIPTION:Setup 1:30PM Match 5:00 PM\n(Ranges 1\, 3\, 5\, 6\, 7\, 8 & Clubhouse)
URL:https://wvrpc.org/event/pcsl-13/
LOCATION:Wildcat Valley R and P Club\, 12094 SOUTH 300 EAST\, BROOKSTON\, IN\, 47923\, United States
CATEGORIES:PCSL
END:VEVENT
BEGIN:VEVENT
DTSTART;TZID=America/Indiana/Indianapolis:20230408T150000
DTEND;TZID=America/Indiana/Indianapolis:20230408T190000
DTSTAMP:20260420T115716
CREATED:20230201T184451Z
LAST-MODIFIED:20230201T201141Z
UID:2426-1680966000-1680980400@wvrpc.org
SUMMARY:PCSL
DESCRIPTION:Setup 3:00 PMMatch 5:00 PM\n(Ranges 3 thru 8 & Clubhouse)
URL:https://wvrpc.org/event/pcsl-2/
LOCATION:Wildcat Valley R and P Club\, 12094 SOUTH 300 EAST\, BROOKSTON\, IN\, 47923\, United States
CATEGORIES:PCSL
END:VEVENT
BEGIN:VEVENT
DTSTART;TZID=America/Indiana/Indianapolis:20230311T130000
DTEND;TZID=America/Indiana/Indianapolis:20230311T180000
DTSTAMP:20260420T115716
CREATED:20230201T184033Z
LAST-MODIFIED:20230201T201152Z
UID:2401-1678539600-1678557600@wvrpc.org
SUMMARY:PCSL
DESCRIPTION:Setup 1:00 PMMatch 3:00 PM\n(Ranges 3 thru 8)
URL:https://wvrpc.org/event/pcsl/
LOCATION:Wildcat Valley R and P Club\, 12094 SOUTH 300 EAST\, BROOKSTON\, IN\, 47923\, United States
CATEGORIES:PCSL
END:VEVENT
END:VCALENDAR