BEGIN:VCALENDAR
VERSION:2.0
PRODID:-//Wildcat Valley Rifle &amp; Pistol Club - ECPv6.15.20//NONSGML v1.0//EN
CALSCALE:GREGORIAN
METHOD:PUBLISH
X-WR-CALNAME:Wildcat Valley Rifle &amp; Pistol Club
X-ORIGINAL-URL:https://wvrpc.org
X-WR-CALDESC:Events for Wildcat Valley Rifle &amp; Pistol Club
REFRESH-INTERVAL;VALUE=DURATION:PT1H
X-Robots-Tag:noindex
X-PUBLISHED-TTL:PT1H
BEGIN:VTIMEZONE
TZID:UTC
BEGIN:STANDARD
TZOFFSETFROM:+0000
TZOFFSETTO:+0000
TZNAME:UTC
DTSTART:20200101T000000
END:STANDARD
END:VTIMEZONE
BEGIN:VEVENT
DTSTART;TZID=UTC:20210601T170000
DTEND;TZID=UTC:20210601T170000
DTSTAMP:20260422T181017
CREATED:20210224T190005Z
LAST-MODIFIED:20210224T225831Z
UID:1022-1622566800-1622566800@wvrpc.org
SUMMARY:Highpower League
DESCRIPTION:Range 1
URL:https://wvrpc.org/event/highpower-league-11/
LOCATION:IN
CATEGORIES:Highpower
END:VEVENT
END:VCALENDAR