BEGIN:VCALENDAR
VERSION:2.0
PRODID:-//Wildcat Valley Rifle &amp; Pistol Club - ECPv6.15.20//NONSGML v1.0//EN
CALSCALE:GREGORIAN
METHOD:PUBLISH
X-ORIGINAL-URL:https://wvrpc.org
X-WR-CALDESC:Events for Wildcat Valley Rifle &amp; Pistol Club
REFRESH-INTERVAL;VALUE=DURATION:PT1H
X-Robots-Tag:noindex
X-PUBLISHED-TTL:PT1H
BEGIN:VTIMEZONE
TZID:UTC
BEGIN:STANDARD
TZOFFSETFROM:+0000
TZOFFSETTO:+0000
TZNAME:UTC
DTSTART:20200101T000000
END:STANDARD
END:VTIMEZONE
BEGIN:VEVENT
DTSTART;TZID=UTC:20210327T080000
DTEND;TZID=UTC:20210327T110000
DTSTAMP:20260423T054745
CREATED:20210219T175844Z
LAST-MODIFIED:20210219T180013Z
UID:666-1616832000-1616842800@wvrpc.org
SUMMARY:Highpower Workday
DESCRIPTION:
URL:https://wvrpc.org/event/high-power-workday/
LOCATION:IN
CATEGORIES:Highpower
END:VEVENT
BEGIN:VEVENT
DTSTART;TZID=UTC:20210327T110000
DTEND;TZID=UTC:20210327T140000
DTSTAMP:20260423T054745
CREATED:20210219T180804Z
LAST-MODIFIED:20210219T180804Z
UID:678-1616842800-1616853600@wvrpc.org
SUMMARY:Highpower Prone Match
DESCRIPTION:
URL:https://wvrpc.org/event/highpower-prone-match/
LOCATION:IN
CATEGORIES:Highpower
END:VEVENT
END:VCALENDAR