BEGIN:VCALENDAR
VERSION:2.0
PRODID:-//Wildcat Valley Rifle &amp; Pistol Club - ECPv6.15.20//NONSGML v1.0//EN
CALSCALE:GREGORIAN
METHOD:PUBLISH
X-WR-CALNAME:Wildcat Valley Rifle &amp; Pistol Club
X-ORIGINAL-URL:https://wvrpc.org
X-WR-CALDESC:Events for Wildcat Valley Rifle &amp; Pistol Club
REFRESH-INTERVAL;VALUE=DURATION:PT1H
X-Robots-Tag:noindex
X-PUBLISHED-TTL:PT1H
BEGIN:VTIMEZONE
TZID:UTC
BEGIN:STANDARD
TZOFFSETFROM:+0000
TZOFFSETTO:+0000
TZNAME:UTC
DTSTART:20200101T000000
END:STANDARD
END:VTIMEZONE
BEGIN:VEVENT
DTSTART;TZID=UTC:20211005T170000
DTEND;TZID=UTC:20211005T170000
DTSTAMP:20260422T183551
CREATED:20210224T223028Z
LAST-MODIFIED:20210224T225651Z
UID:1302-1633453200-1633453200@wvrpc.org
SUMMARY:Highpower League
DESCRIPTION:Range 1
URL:https://wvrpc.org/event/highpower-league-29/
LOCATION:IN
CATEGORIES:Highpower
END:VEVENT
BEGIN:VEVENT
DTSTART;TZID=UTC:20211009T080000
DTEND;TZID=UTC:20211009T080000
DTSTAMP:20260422T183551
CREATED:20210224T223037Z
LAST-MODIFIED:20210224T225649Z
UID:1312-1633766400-1633766400@wvrpc.org
SUMMARY:Highpower CMP Cup Match
DESCRIPTION:Range 1
URL:https://wvrpc.org/event/highpower-cmp-cup-match-9/
LOCATION:IN
CATEGORIES:Highpower
END:VEVENT
BEGIN:VEVENT
DTSTART;TZID=UTC:20211012T170000
DTEND;TZID=UTC:20211012T170000
DTSTAMP:20260422T183551
CREATED:20210224T223030Z
LAST-MODIFIED:20210224T225647Z
UID:1303-1634058000-1634058000@wvrpc.org
SUMMARY:Highpower League
DESCRIPTION:Range 1
URL:https://wvrpc.org/event/highpower-league-30/
LOCATION:IN
CATEGORIES:Highpower
END:VEVENT
BEGIN:VEVENT
DTSTART;TZID=UTC:20211019T170000
DTEND;TZID=UTC:20211019T170000
DTSTAMP:20260422T183551
CREATED:20210224T223031Z
LAST-MODIFIED:20210224T225645Z
UID:1304-1634662800-1634662800@wvrpc.org
SUMMARY:Highpower League
DESCRIPTION:Range 1
URL:https://wvrpc.org/event/highpower-league-31/
LOCATION:IN
CATEGORIES:Highpower
END:VEVENT
BEGIN:VEVENT
DTSTART;TZID=UTC:20211023T080000
DTEND;TZID=UTC:20211023T080000
DTSTAMP:20260422T183551
CREATED:20210224T223040Z
LAST-MODIFIED:20210224T225628Z
UID:1315-1634976000-1634976000@wvrpc.org
SUMMARY:Highpower CMP Cup Match
DESCRIPTION:Range 1
URL:https://wvrpc.org/event/highpower-cmp-cup-match-10/
LOCATION:IN
CATEGORIES:Highpower
END:VEVENT
BEGIN:VEVENT
DTSTART;TZID=UTC:20211026T170000
DTEND;TZID=UTC:20211026T170000
DTSTAMP:20260422T183551
CREATED:20210224T223031Z
LAST-MODIFIED:20210224T225628Z
UID:1305-1635267600-1635267600@wvrpc.org
SUMMARY:Highpower League
DESCRIPTION:Range 1
URL:https://wvrpc.org/event/highpower-league-32/
LOCATION:IN
CATEGORIES:Highpower
END:VEVENT
END:VCALENDAR