BEGIN:VCALENDAR
VERSION:2.0
PRODID:-//Wildcat Valley Rifle &amp; Pistol Club - ECPv6.15.20//NONSGML v1.0//EN
CALSCALE:GREGORIAN
METHOD:PUBLISH
X-WR-CALNAME:Wildcat Valley Rifle &amp; Pistol Club
X-ORIGINAL-URL:https://wvrpc.org
X-WR-CALDESC:Events for Wildcat Valley Rifle &amp; Pistol Club
REFRESH-INTERVAL;VALUE=DURATION:PT1H
X-Robots-Tag:noindex
X-PUBLISHED-TTL:PT1H
BEGIN:VTIMEZONE
TZID:UTC
BEGIN:STANDARD
TZOFFSETFROM:+0000
TZOFFSETTO:+0000
TZNAME:UTC
DTSTART:20200101T000000
END:STANDARD
END:VTIMEZONE
BEGIN:VEVENT
DTSTART;TZID=UTC:20210904T160000
DTEND;TZID=UTC:20210904T160000
DTSTAMP:20260422T183551
CREATED:20210224T223328Z
LAST-MODIFIED:20210224T225707Z
UID:1341-1630771200-1630771200@wvrpc.org
SUMMARY:Highpower Hoosier Hundred
DESCRIPTION:Range 1
URL:https://wvrpc.org/event/highpower-hoosier-hundred-3/
LOCATION:IN
CATEGORIES:Highpower
END:VEVENT
BEGIN:VEVENT
DTSTART;TZID=UTC:20210907T170000
DTEND;TZID=UTC:20210907T170000
DTSTAMP:20260422T183551
CREATED:20210224T214203Z
LAST-MODIFIED:20210224T225127Z
UID:1209-1631034000-1631034000@wvrpc.org
SUMMARY:Highpower League
DESCRIPTION:Range 1
URL:https://wvrpc.org/event/highpower-league-25/
LOCATION:IN
CATEGORIES:Highpower
END:VEVENT
BEGIN:VEVENT
DTSTART;TZID=UTC:20210911T080000
DTEND;TZID=UTC:20210911T080000
DTSTAMP:20260422T183551
CREATED:20210224T215550Z
LAST-MODIFIED:20210224T225130Z
UID:1269-1631347200-1631347200@wvrpc.org
SUMMARY:Highpower CMP Cup Match
DESCRIPTION:Range 1
URL:https://wvrpc.org/event/highpower-cmp-cup-match-8/
LOCATION:IN
CATEGORIES:Highpower
END:VEVENT
BEGIN:VEVENT
DTSTART;TZID=UTC:20210914T170000
DTEND;TZID=UTC:20210914T170000
DTSTAMP:20260422T183551
CREATED:20210224T214203Z
LAST-MODIFIED:20210224T225136Z
UID:1210-1631638800-1631638800@wvrpc.org
SUMMARY:Highpower League
DESCRIPTION:Range 1
URL:https://wvrpc.org/event/highpower-league-26/
LOCATION:IN
CATEGORIES:Highpower
END:VEVENT
BEGIN:VEVENT
DTSTART;TZID=UTC:20210916T160000
DTEND;TZID=UTC:20210916T160000
DTSTAMP:20260422T183551
CREATED:20210224T214209Z
LAST-MODIFIED:20210224T225136Z
UID:1216-1631808000-1631808000@wvrpc.org
SUMMARY:Highpower Hoosier Hundred
DESCRIPTION:Range 1
URL:https://wvrpc.org/event/highpower-hoosier-hundred-2/
LOCATION:IN
CATEGORIES:Highpower
END:VEVENT
BEGIN:VEVENT
DTSTART;TZID=UTC:20210921T170000
DTEND;TZID=UTC:20210921T170000
DTSTAMP:20260422T183551
CREATED:20210224T214204Z
LAST-MODIFIED:20210224T225139Z
UID:1211-1632243600-1632243600@wvrpc.org
SUMMARY:Highpower League
DESCRIPTION:Range 1
URL:https://wvrpc.org/event/highpower-league-27/
LOCATION:IN
CATEGORIES:Highpower
END:VEVENT
BEGIN:VEVENT
DTSTART;TZID=UTC:20210925T080000
DTEND;TZID=UTC:20210925T080000
DTSTAMP:20260422T183551
CREATED:20210224T215601Z
LAST-MODIFIED:20210224T225142Z
UID:1279-1632556800-1632556800@wvrpc.org
SUMMARY:Highpower Prone Match
DESCRIPTION:Range 1
URL:https://wvrpc.org/event/highpower-prone-match-3/
LOCATION:IN
CATEGORIES:Highpower
END:VEVENT
BEGIN:VEVENT
DTSTART;TZID=UTC:20210928T170000
DTEND;TZID=UTC:20210928T170000
DTSTAMP:20260422T183551
CREATED:20210224T214204Z
LAST-MODIFIED:20210224T225143Z
UID:1212-1632848400-1632848400@wvrpc.org
SUMMARY:Highpower League
DESCRIPTION:Range 1
URL:https://wvrpc.org/event/highpower-league-28/
LOCATION:IN
CATEGORIES:Highpower
END:VEVENT
END:VCALENDAR