BEGIN:VCALENDAR
VERSION:2.0
PRODID:-//Wildcat Valley Rifle &amp; Pistol Club - ECPv6.15.20//NONSGML v1.0//EN
CALSCALE:GREGORIAN
METHOD:PUBLISH
X-ORIGINAL-URL:https://wvrpc.org
X-WR-CALDESC:Events for Wildcat Valley Rifle &amp; Pistol Club
REFRESH-INTERVAL;VALUE=DURATION:PT1H
X-Robots-Tag:noindex
X-PUBLISHED-TTL:PT1H
BEGIN:VTIMEZONE
TZID:UTC
BEGIN:STANDARD
TZOFFSETFROM:+0000
TZOFFSETTO:+0000
TZNAME:UTC
DTSTART:20200101T000000
END:STANDARD
END:VTIMEZONE
BEGIN:VEVENT
DTSTART;TZID=UTC:20210501T080000
DTEND;TZID=UTC:20210501T080000
DTSTAMP:20260422T192524
CREATED:20210224T182326Z
LAST-MODIFIED:20210224T225909Z
UID:958-1619856000-1619856000@wvrpc.org
SUMMARY:Highpower Beginners Clinic
DESCRIPTION:Range 1 & Clubhouse
URL:https://wvrpc.org/event/highpower-beginners-clinic-2/
LOCATION:IN
CATEGORIES:Highpower
END:VEVENT
BEGIN:VEVENT
DTSTART;TZID=UTC:20210504T170000
DTEND;TZID=UTC:20210504T170000
DTSTAMP:20260422T192524
CREATED:20210224T184204Z
LAST-MODIFIED:20210224T225854Z
UID:978-1620147600-1620147600@wvrpc.org
SUMMARY:Highpower League
DESCRIPTION:Range 1
URL:https://wvrpc.org/event/highpower-league-7/
LOCATION:IN
CATEGORIES:Highpower
END:VEVENT
BEGIN:VEVENT
DTSTART;TZID=UTC:20210505T170000
DTEND;TZID=UTC:20210505T170000
DTSTAMP:20260422T192524
CREATED:20210224T184207Z
LAST-MODIFIED:20210224T225853Z
UID:981-1620234000-1620234000@wvrpc.org
SUMMARY:Highpower League
DESCRIPTION:Range 1
URL:https://wvrpc.org/event/highpower-league-10/
LOCATION:IN
CATEGORIES:Highpower
END:VEVENT
BEGIN:VEVENT
DTSTART;TZID=UTC:20210508T080000
DTEND;TZID=UTC:20210508T080000
DTSTAMP:20260422T192524
CREATED:20210224T184212Z
LAST-MODIFIED:20210224T225851Z
UID:985-1620460800-1620460800@wvrpc.org
SUMMARY:Highpower CMP Cup Match
DESCRIPTION:Range 1
URL:https://wvrpc.org/event/highpower-cmp-cup-match-3/
LOCATION:IN
CATEGORIES:Highpower
END:VEVENT
BEGIN:VEVENT
DTSTART;TZID=UTC:20210511T170000
DTEND;TZID=UTC:20210511T170000
DTSTAMP:20260422T192524
CREATED:20210224T184204Z
LAST-MODIFIED:20210224T225850Z
UID:979-1620752400-1620752400@wvrpc.org
SUMMARY:Highpower League
DESCRIPTION:Range 1
URL:https://wvrpc.org/event/highpower-league-8/
LOCATION:IN
CATEGORIES:Highpower
END:VEVENT
BEGIN:VEVENT
DTSTART;TZID=UTC:20210518T170000
DTEND;TZID=UTC:20210518T170000
DTSTAMP:20260422T192524
CREATED:20210224T184207Z
LAST-MODIFIED:20210224T225849Z
UID:980-1621357200-1621357200@wvrpc.org
SUMMARY:Highpower League
DESCRIPTION:Range 1
URL:https://wvrpc.org/event/highpower-league-9/
LOCATION:IN
CATEGORIES:Highpower
END:VEVENT
BEGIN:VEVENT
DTSTART;TZID=UTC:20210522T080000
DTEND;TZID=UTC:20210522T080000
DTSTAMP:20260422T192524
CREATED:20210224T184218Z
LAST-MODIFIED:20210224T225833Z
UID:997-1621670400-1621670400@wvrpc.org
SUMMARY:Highpower Prone Match
DESCRIPTION:Range 1
URL:https://wvrpc.org/event/highpower-prone-match-2/
LOCATION:IN
CATEGORIES:Highpower
END:VEVENT
END:VCALENDAR