BEGIN:VCALENDAR
VERSION:2.0
PRODID:-//Wildcat Valley Rifle &amp; Pistol Club - ECPv6.15.20//NONSGML v1.0//EN
CALSCALE:GREGORIAN
METHOD:PUBLISH
X-WR-CALNAME:Wildcat Valley Rifle &amp; Pistol Club
X-ORIGINAL-URL:https://wvrpc.org
X-WR-CALDESC:Events for Wildcat Valley Rifle &amp; Pistol Club
REFRESH-INTERVAL;VALUE=DURATION:PT1H
X-Robots-Tag:noindex
X-PUBLISHED-TTL:PT1H
BEGIN:VTIMEZONE
TZID:America/Indiana/Indianapolis
BEGIN:DAYLIGHT
TZOFFSETFROM:-0500
TZOFFSETTO:-0400
TZNAME:EDT
DTSTART:20240310T070000
END:DAYLIGHT
BEGIN:STANDARD
TZOFFSETFROM:-0400
TZOFFSETTO:-0500
TZNAME:EST
DTSTART:20241103T060000
END:STANDARD
BEGIN:DAYLIGHT
TZOFFSETFROM:-0500
TZOFFSETTO:-0400
TZNAME:EDT
DTSTART:20250309T070000
END:DAYLIGHT
BEGIN:STANDARD
TZOFFSETFROM:-0400
TZOFFSETTO:-0500
TZNAME:EST
DTSTART:20251102T060000
END:STANDARD
BEGIN:DAYLIGHT
TZOFFSETFROM:-0500
TZOFFSETTO:-0400
TZNAME:EDT
DTSTART:20260308T070000
END:DAYLIGHT
BEGIN:STANDARD
TZOFFSETFROM:-0400
TZOFFSETTO:-0500
TZNAME:EST
DTSTART:20261101T060000
END:STANDARD
END:VTIMEZONE
BEGIN:VEVENT
DTSTART;TZID=America/Indiana/Indianapolis:20250713T080000
DTEND;TZID=America/Indiana/Indianapolis:20250713T150000
DTSTAMP:20260421T191822
CREATED:20250219T090445Z
LAST-MODIFIED:20250219T093321Z
UID:3819-1752393600-1752418800@wvrpc.org
SUMMARY:ICORE
DESCRIPTION:Setup 8:00 AM Registration 9:00 AMMatch 10:00 AM\n(Ranges 3 – 7)
URL:https://wvrpc.org/event/icore-28/
LOCATION:Wildcat Valley R and P Club\, 12094 SOUTH 300 EAST\, BROOKSTON\, IN\, 47923\, United States
CATEGORIES:ICORE
END:VEVENT
BEGIN:VEVENT
DTSTART;TZID=America/Indiana/Indianapolis:20250713T103000
DTEND;TZID=America/Indiana/Indianapolis:20250713T103000
DTSTAMP:20260421T191822
CREATED:20250219T090459Z
LAST-MODIFIED:20250219T093520Z
UID:3821-1752402600-1752402600@wvrpc.org
SUMMARY:Silhouette
DESCRIPTION:Range 2
URL:https://wvrpc.org/event/silhouette-19/
LOCATION:Wildcat Valley R and P Club\, 12094 SOUTH 300 EAST\, BROOKSTON\, IN\, 47923\, United States
CATEGORIES:Silhouette
END:VEVENT
BEGIN:VEVENT
DTSTART;TZID=America/Indiana/Indianapolis:20250713T103000
DTEND;TZID=America/Indiana/Indianapolis:20250713T170000
DTSTAMP:20260421T191822
CREATED:20250219T090459Z
LAST-MODIFIED:20250219T093520Z
UID:3820-1752402600-1752426000@wvrpc.org
SUMMARY:NRL22
DESCRIPTION:Setup/Reg 10:30 AMMatch 1:15 PM\nRange 1
URL:https://wvrpc.org/event/nrl22-40/
LOCATION:Wildcat Valley R and P Club\, 12094 SOUTH 300 EAST\, BROOKSTON\, IN\, 47923\, United States
CATEGORIES:NRL-22
END:VEVENT
END:VCALENDAR