BEGIN:VCALENDAR
VERSION:2.0
PRODID:-//Wildcat Valley Rifle &amp; Pistol Club - ECPv6.15.20//NONSGML v1.0//EN
CALSCALE:GREGORIAN
METHOD:PUBLISH
X-WR-CALNAME:Wildcat Valley Rifle &amp; Pistol Club
X-ORIGINAL-URL:https://wvrpc.org
X-WR-CALDESC:Events for Wildcat Valley Rifle &amp; Pistol Club
REFRESH-INTERVAL;VALUE=DURATION:PT1H
X-Robots-Tag:noindex
X-PUBLISHED-TTL:PT1H
BEGIN:VTIMEZONE
TZID:America/Indiana/Indianapolis
BEGIN:DAYLIGHT
TZOFFSETFROM:-0500
TZOFFSETTO:-0400
TZNAME:EDT
DTSTART:20220313T070000
END:DAYLIGHT
BEGIN:STANDARD
TZOFFSETFROM:-0400
TZOFFSETTO:-0500
TZNAME:EST
DTSTART:20221106T060000
END:STANDARD
BEGIN:DAYLIGHT
TZOFFSETFROM:-0500
TZOFFSETTO:-0400
TZNAME:EDT
DTSTART:20230312T070000
END:DAYLIGHT
BEGIN:STANDARD
TZOFFSETFROM:-0400
TZOFFSETTO:-0500
TZNAME:EST
DTSTART:20231105T060000
END:STANDARD
BEGIN:DAYLIGHT
TZOFFSETFROM:-0500
TZOFFSETTO:-0400
TZNAME:EDT
DTSTART:20240310T070000
END:DAYLIGHT
BEGIN:STANDARD
TZOFFSETFROM:-0400
TZOFFSETTO:-0500
TZNAME:EST
DTSTART:20241103T060000
END:STANDARD
END:VTIMEZONE
BEGIN:VEVENT
DTSTART;TZID=America/Indiana/Indianapolis:20230708T070000
DTEND;TZID=America/Indiana/Indianapolis:20230708T150000
DTSTAMP:20260421T095028
CREATED:20230201T190059Z
LAST-MODIFIED:20230707T191049Z
UID:2530-1688799600-1688828400@wvrpc.org
SUMMARY:IDPA Match Cancelled
DESCRIPTION:Cancelled
URL:https://wvrpc.org/event/idpa-match-27/
LOCATION:Wildcat Valley R and P Club\, 12094 SOUTH 300 EAST\, BROOKSTON\, IN\, 47923\, United States
CATEGORIES:IDPA
END:VEVENT
BEGIN:VEVENT
DTSTART;TZID=America/Indiana/Indianapolis:20230708T080000
DTEND;TZID=America/Indiana/Indianapolis:20230708T170000
DTSTAMP:20260421T095028
CREATED:20230201T190059Z
LAST-MODIFIED:20230201T194329Z
UID:2529-1688803200-1688835600@wvrpc.org
SUMMARY:Junior Club
DESCRIPTION:Cancelled
URL:https://wvrpc.org/event/junior-club-32/
LOCATION:Wildcat Valley R and P Club\, 12094 SOUTH 300 EAST\, BROOKSTON\, IN\, 47923\, United States
CATEGORIES:Junior Club
END:VEVENT
BEGIN:VEVENT
DTSTART;TZID=America/Indiana/Indianapolis:20230708T133000
DTEND;TZID=America/Indiana/Indianapolis:20230708T210000
DTSTAMP:20260421T095028
CREATED:20230411T150432Z
LAST-MODIFIED:20230411T193752Z
UID:2949-1688823000-1688850000@wvrpc.org
SUMMARY:PCSL
DESCRIPTION:Setup 1:30PM Match 5:00 PM\n(Ranges 1\, 3\, 5\, 6\, 7\, 8 & Clubhouse)
URL:https://wvrpc.org/event/pcsl-15/
LOCATION:Wildcat Valley R and P Club\, 12094 SOUTH 300 EAST\, BROOKSTON\, IN\, 47923\, United States
CATEGORIES:PCSL
END:VEVENT
END:VCALENDAR