BEGIN:VCALENDAR
VERSION:2.0
PRODID:-//Wildcat Valley Rifle &amp; Pistol Club - ECPv6.15.20//NONSGML v1.0//EN
CALSCALE:GREGORIAN
METHOD:PUBLISH
X-WR-CALNAME:Wildcat Valley Rifle &amp; Pistol Club
X-ORIGINAL-URL:https://wvrpc.org
X-WR-CALDESC:Events for Wildcat Valley Rifle &amp; Pistol Club
REFRESH-INTERVAL;VALUE=DURATION:PT1H
X-Robots-Tag:noindex
X-PUBLISHED-TTL:PT1H
BEGIN:VTIMEZONE
TZID:America/Indiana/Indianapolis
BEGIN:DAYLIGHT
TZOFFSETFROM:-0500
TZOFFSETTO:-0400
TZNAME:EDT
DTSTART:20210314T070000
END:DAYLIGHT
BEGIN:STANDARD
TZOFFSETFROM:-0400
TZOFFSETTO:-0500
TZNAME:EST
DTSTART:20211107T060000
END:STANDARD
BEGIN:DAYLIGHT
TZOFFSETFROM:-0500
TZOFFSETTO:-0400
TZNAME:EDT
DTSTART:20220313T070000
END:DAYLIGHT
BEGIN:STANDARD
TZOFFSETFROM:-0400
TZOFFSETTO:-0500
TZNAME:EST
DTSTART:20221106T060000
END:STANDARD
BEGIN:DAYLIGHT
TZOFFSETFROM:-0500
TZOFFSETTO:-0400
TZNAME:EDT
DTSTART:20230312T070000
END:DAYLIGHT
BEGIN:STANDARD
TZOFFSETFROM:-0400
TZOFFSETTO:-0500
TZNAME:EST
DTSTART:20231105T060000
END:STANDARD
END:VTIMEZONE
BEGIN:VEVENT
DTSTART;TZID=America/Indiana/Indianapolis:20220611T070000
DTEND;TZID=America/Indiana/Indianapolis:20220611T150000
DTSTAMP:20260422T190931
CREATED:20220125T154831Z
LAST-MODIFIED:20220209T114016Z
UID:1778-1654930800-1654959600@wvrpc.org
SUMMARY:IDPA Match
DESCRIPTION:Ranges 3-8 & Clubhouse Registration begins at 9 AM and closes at 9:45 AM
URL:https://wvrpc.org/event/idpa-match-18/
LOCATION:Wildcat Valley R and P Club\, 12094 SOUTH 300 EAST\, BROOKSTON\, IN\, 47923\, United States
CATEGORIES:IDPA
END:VEVENT
BEGIN:VEVENT
DTSTART;TZID=America/Indiana/Indianapolis:20220611T080000
DTEND;TZID=America/Indiana/Indianapolis:20220611T140000
DTSTAMP:20260422T190931
CREATED:20220209T152446Z
LAST-MODIFIED:20220209T152446Z
UID:1978-1654934400-1654956000@wvrpc.org
SUMMARY:Highpower CMP "Games" Day
DESCRIPTION:Range 1
URL:https://wvrpc.org/event/highpower-cmp-games-day-2/
LOCATION:Wildcat Valley R and P Club\, 12094 SOUTH 300 EAST\, BROOKSTON\, IN\, 47923\, United States
CATEGORIES:Highpower
END:VEVENT
BEGIN:VEVENT
DTSTART;TZID=America/Indiana/Indianapolis:20220611T080000
DTEND;TZID=America/Indiana/Indianapolis:20220611T170000
DTSTAMP:20260422T190931
CREATED:20220209T152446Z
LAST-MODIFIED:20220209T152446Z
UID:1977-1654934400-1654966800@wvrpc.org
SUMMARY:Junior Club
DESCRIPTION:Range 1
URL:https://wvrpc.org/event/junior-club-17/
LOCATION:Wildcat Valley R and P Club\, 12094 SOUTH 300 EAST\, BROOKSTON\, IN\, 47923\, United States
CATEGORIES:Junior Club
END:VEVENT
BEGIN:VEVENT
DTSTART;TZID=America/Indiana/Indianapolis:20220611T130000
DTEND;TZID=America/Indiana/Indianapolis:20220611T190000
DTSTAMP:20260422T190931
CREATED:20220209T152646Z
LAST-MODIFIED:20220209T152646Z
UID:1980-1654952400-1654974000@wvrpc.org
SUMMARY:Silhouette Setup & Clinic
DESCRIPTION:Range 1
URL:https://wvrpc.org/event/silhouette-setup-clinic-10/
LOCATION:Wildcat Valley R and P Club\, 12094 SOUTH 300 EAST\, BROOKSTON\, IN\, 47923\, United States
CATEGORIES:Silhouette
END:VEVENT
BEGIN:VEVENT
DTSTART;TZID=America/Indiana/Indianapolis:20220611T150000
DTEND;TZID=America/Indiana/Indianapolis:20220611T180000
DTSTAMP:20260422T190931
CREATED:20220209T152446Z
LAST-MODIFIED:20220209T152446Z
UID:1979-1654959600-1654970400@wvrpc.org
SUMMARY:ICORE Setup
DESCRIPTION:Setup after IDPA
URL:https://wvrpc.org/event/icore-setup-3/
LOCATION:Wildcat Valley R and P Club\, 12094 SOUTH 300 EAST\, BROOKSTON\, IN\, 47923\, United States
CATEGORIES:ICORE
END:VEVENT
END:VCALENDAR