BEGIN:VCALENDAR
VERSION:2.0
PRODID:-//Wildcat Valley Rifle &amp; Pistol Club - ECPv6.15.20//NONSGML v1.0//EN
CALSCALE:GREGORIAN
METHOD:PUBLISH
X-ORIGINAL-URL:https://wvrpc.org
X-WR-CALDESC:Events for Wildcat Valley Rifle &amp; Pistol Club
REFRESH-INTERVAL;VALUE=DURATION:PT1H
X-Robots-Tag:noindex
X-PUBLISHED-TTL:PT1H
BEGIN:VTIMEZONE
TZID:UTC
BEGIN:STANDARD
TZOFFSETFROM:+0000
TZOFFSETTO:+0000
TZNAME:UTC
DTSTART:20210101T000000
END:STANDARD
END:VTIMEZONE
BEGIN:VEVENT
DTSTART;TZID=UTC:20220213T103000
DTEND;TZID=UTC:20220213T103000
DTSTAMP:20260423T194138
CREATED:20210224T223056Z
LAST-MODIFIED:20210224T225624Z
UID:1336-1644748200-1644748200@wvrpc.org
SUMMARY:NRL-22 Match
DESCRIPTION:Range 1 & ClubhouseSetup 10:30AM\nRegistration 1:30PM
URL:https://wvrpc.org/event/nrl-22-match-11/
CATEGORIES:NRL-22
END:VEVENT
END:VCALENDAR