BEGIN:VCALENDAR
VERSION:2.0
PRODID:-//Wildcat Valley Rifle &amp; Pistol Club - ECPv6.15.20//NONSGML v1.0//EN
CALSCALE:GREGORIAN
METHOD:PUBLISH
X-WR-CALNAME:Wildcat Valley Rifle &amp; Pistol Club
X-ORIGINAL-URL:https://wvrpc.org
X-WR-CALDESC:Events for Wildcat Valley Rifle &amp; Pistol Club
REFRESH-INTERVAL;VALUE=DURATION:PT1H
X-Robots-Tag:noindex
X-PUBLISHED-TTL:PT1H
BEGIN:VTIMEZONE
TZID:UTC
BEGIN:STANDARD
TZOFFSETFROM:+0000
TZOFFSETTO:+0000
TZNAME:UTC
DTSTART:20200101T000000
END:STANDARD
END:VTIMEZONE
BEGIN:VEVENT
DTSTART;TZID=UTC:20211010T100000
DTEND;TZID=UTC:20211010T100000
DTSTAMP:20260425T083434
CREATED:20210224T223044Z
LAST-MODIFIED:20210224T225648Z
UID:1320-1633860000-1633860000@wvrpc.org
SUMMARY:ICORE Match
DESCRIPTION:Ranges 3-7 & ClubhouseRegistration 10:00AM
URL:https://wvrpc.org/event/icore-match-7/
CATEGORIES:ICORE
END:VEVENT
BEGIN:VEVENT
DTSTART;TZID=UTC:20211010T100000
DTEND;TZID=UTC:20211010T100000
DTSTAMP:20260425T083434
CREATED:20210224T224038Z
LAST-MODIFIED:20210224T225648Z
UID:1388-1633860000-1633860000@wvrpc.org
SUMMARY:Silhouette Match
DESCRIPTION:Range 2
URL:https://wvrpc.org/event/silhouette-match-8/
CATEGORIES:Silhouette
END:VEVENT
BEGIN:VEVENT
DTSTART;TZID=UTC:20211010T103000
DTEND;TZID=UTC:20211010T103000
DTSTAMP:20260425T083434
CREATED:20210224T223043Z
LAST-MODIFIED:20210224T225648Z
UID:1318-1633861800-1633861800@wvrpc.org
SUMMARY:NRL-22 Match
DESCRIPTION:Range 1 & ClubhouseSetup 10:30AM\nRegistration 1:30PM
URL:https://wvrpc.org/event/nrl-22-match-7/
CATEGORIES:NRL-22
END:VEVENT
END:VCALENDAR