BEGIN:VCALENDAR
VERSION:2.0
PRODID:-//Wildcat Valley Rifle &amp; Pistol Club - ECPv6.15.20//NONSGML v1.0//EN
CALSCALE:GREGORIAN
METHOD:PUBLISH
X-WR-CALNAME:Wildcat Valley Rifle &amp; Pistol Club
X-ORIGINAL-URL:https://wvrpc.org
X-WR-CALDESC:Events for Wildcat Valley Rifle &amp; Pistol Club
REFRESH-INTERVAL;VALUE=DURATION:PT1H
X-Robots-Tag:noindex
X-PUBLISHED-TTL:PT1H
BEGIN:VTIMEZONE
TZID:UTC
BEGIN:STANDARD
TZOFFSETFROM:+0000
TZOFFSETTO:+0000
TZNAME:UTC
DTSTART:20200101T000000
END:STANDARD
END:VTIMEZONE
BEGIN:VEVENT
DTSTART;VALUE=DATE:20211009
DTEND;VALUE=DATE:20211010
DTSTAMP:20260425T083430
CREATED:20210224T223043Z
LAST-MODIFIED:20210224T225650Z
UID:1319-1633737600-1633823999@wvrpc.org
SUMMARY:ICORE Setup (After IDPA)
DESCRIPTION:Ranges 3-7
URL:https://wvrpc.org/event/icore-setup-after-idpa-7/
CATEGORIES:ICORE
END:VEVENT
BEGIN:VEVENT
DTSTART;TZID=UTC:20211009T070000
DTEND;TZID=UTC:20211009T070000
DTSTAMP:20260425T083430
CREATED:20210224T223036Z
LAST-MODIFIED:20210621T163112Z
UID:1311-1633762800-1633762800@wvrpc.org
SUMMARY:IDPA Match
DESCRIPTION:Ranges 3-8 & Clubhouse Registration begins at 9 AM and closes at 9:45 AM
URL:https://wvrpc.org/event/idpa-match-7/
CATEGORIES:IDPA
END:VEVENT
BEGIN:VEVENT
DTSTART;TZID=UTC:20211009T080000
DTEND;TZID=UTC:20211009T080000
DTSTAMP:20260425T083430
CREATED:20210224T223037Z
LAST-MODIFIED:20210224T225649Z
UID:1312-1633766400-1633766400@wvrpc.org
SUMMARY:Highpower CMP Cup Match
DESCRIPTION:Range 1
URL:https://wvrpc.org/event/highpower-cmp-cup-match-9/
CATEGORIES:Highpower
END:VEVENT
BEGIN:VEVENT
DTSTART;TZID=UTC:20211009T080000
DTEND;TZID=UTC:20211009T080000
DTSTAMP:20260425T083430
CREATED:20210224T223039Z
LAST-MODIFIED:20210224T225649Z
UID:1313-1633766400-1633766400@wvrpc.org
SUMMARY:Junior Club
DESCRIPTION:Range 1
URL:https://wvrpc.org/event/junior-club-12/
CATEGORIES:Junior Club
END:VEVENT
BEGIN:VEVENT
DTSTART;TZID=UTC:20211009T130000
DTEND;TZID=UTC:20211009T130000
DTSTAMP:20260425T083430
CREATED:20210224T224040Z
LAST-MODIFIED:20210224T225649Z
UID:1389-1633784400-1633784400@wvrpc.org
SUMMARY:Silhouette Setup & Clinic
DESCRIPTION:Range 1
URL:https://wvrpc.org/event/silhouette-setup-clinic-8/
CATEGORIES:Silhouette
END:VEVENT
END:VCALENDAR