BEGIN:VCALENDAR
VERSION:2.0
PRODID:-//Wildcat Valley Rifle &amp; Pistol Club - ECPv6.15.20//NONSGML v1.0//EN
CALSCALE:GREGORIAN
METHOD:PUBLISH
X-ORIGINAL-URL:https://wvrpc.org
X-WR-CALDESC:Events for Wildcat Valley Rifle &amp; Pistol Club
REFRESH-INTERVAL;VALUE=DURATION:PT1H
X-Robots-Tag:noindex
X-PUBLISHED-TTL:PT1H
BEGIN:VTIMEZONE
TZID:UTC
BEGIN:STANDARD
TZOFFSETFROM:+0000
TZOFFSETTO:+0000
TZNAME:UTC
DTSTART:20200101T000000
END:STANDARD
END:VTIMEZONE
BEGIN:VEVENT
DTSTART;VALUE=DATE:20210918
DTEND;VALUE=DATE:20210919
DTSTAMP:20260425T094720
CREATED:20210224T215558Z
LAST-MODIFIED:20210906T164702Z
UID:1278-1631923200-1632009599@wvrpc.org
SUMMARY:*CANCELLED* Steel Challenge Setup (After Cowboy)
DESCRIPTION:Ranges 3-7
URL:https://wvrpc.org/event/steel-challenge-setup-after-cowboy-4/
CATEGORIES:Steel Challenge
END:VEVENT
BEGIN:VEVENT
DTSTART;TZID=UTC:20210918T080000
DTEND;TZID=UTC:20210918T080000
DTSTAMP:20260425T094720
CREATED:20210224T215558Z
LAST-MODIFIED:20210224T225138Z
UID:1277-1631952000-1631952000@wvrpc.org
SUMMARY:Cowboy Match
DESCRIPTION:Ranges 3-8 & Clubhouse
URL:https://wvrpc.org/event/cowboy-match-7/
CATEGORIES:Cowboy
END:VEVENT
END:VCALENDAR