BEGIN:VCALENDAR
VERSION:2.0
PRODID:-//Wildcat Valley Rifle &amp; Pistol Club - ECPv6.15.20//NONSGML v1.0//EN
CALSCALE:GREGORIAN
METHOD:PUBLISH
X-ORIGINAL-URL:https://wvrpc.org
X-WR-CALDESC:Events for Wildcat Valley Rifle &amp; Pistol Club
REFRESH-INTERVAL;VALUE=DURATION:PT1H
X-Robots-Tag:noindex
X-PUBLISHED-TTL:PT1H
BEGIN:VTIMEZONE
TZID:UTC
BEGIN:STANDARD
TZOFFSETFROM:+0000
TZOFFSETTO:+0000
TZNAME:UTC
DTSTART:20200101T000000
END:STANDARD
END:VTIMEZONE
BEGIN:VEVENT
DTSTART;VALUE=DATE:20210911
DTEND;VALUE=DATE:20210912
DTSTAMP:20260425T094718
CREATED:20210224T215556Z
LAST-MODIFIED:20210224T225131Z
UID:1275-1631318400-1631404799@wvrpc.org
SUMMARY:ICORE Setup (After IDPA)
DESCRIPTION:Ranges 3-7
URL:https://wvrpc.org/event/icore-setup-after-idpa-6/
CATEGORIES:ICORE
END:VEVENT
BEGIN:VEVENT
DTSTART;TZID=UTC:20210911T070000
DTEND;TZID=UTC:20210911T070000
DTSTAMP:20260425T094718
CREATED:20210224T215551Z
LAST-MODIFIED:20210621T163023Z
UID:1271-1631343600-1631343600@wvrpc.org
SUMMARY:IDPA Match
DESCRIPTION:Ranges 3-8 & Clubhouse Registration begins at 9 AM and closes at 9:45 AM
URL:https://wvrpc.org/event/idpa-match-6/
CATEGORIES:IDPA
END:VEVENT
BEGIN:VEVENT
DTSTART;TZID=UTC:20210911T080000
DTEND;TZID=UTC:20210911T080000
DTSTAMP:20260425T094718
CREATED:20210224T215547Z
LAST-MODIFIED:20210224T225128Z
UID:1267-1631347200-1631347200@wvrpc.org
SUMMARY:Junior Club
DESCRIPTION:Range 2
URL:https://wvrpc.org/event/junior-club-10/
CATEGORIES:Junior Club
END:VEVENT
BEGIN:VEVENT
DTSTART;TZID=UTC:20210911T080000
DTEND;TZID=UTC:20210911T080000
DTSTAMP:20260425T094718
CREATED:20210224T215550Z
LAST-MODIFIED:20210224T225130Z
UID:1269-1631347200-1631347200@wvrpc.org
SUMMARY:Highpower CMP Cup Match
DESCRIPTION:Range 2
URL:https://wvrpc.org/event/highpower-cmp-cup-match-8/
CATEGORIES:Highpower
END:VEVENT
BEGIN:VEVENT
DTSTART;TZID=UTC:20210911T130000
DTEND;TZID=UTC:20210911T130000
DTSTAMP:20260425T094718
CREATED:20210224T215552Z
LAST-MODIFIED:20210224T225131Z
UID:1273-1631365200-1631365200@wvrpc.org
SUMMARY:Silhouette Setup & Clinic
DESCRIPTION:Range 2
URL:https://wvrpc.org/event/silhouette-setup-clinic-6/
CATEGORIES:Silhouette
END:VEVENT
END:VCALENDAR