BEGIN:VCALENDAR
VERSION:2.0
PRODID:-//Wildcat Valley Rifle &amp; Pistol Club - ECPv6.15.20//NONSGML v1.0//EN
CALSCALE:GREGORIAN
METHOD:PUBLISH
X-ORIGINAL-URL:https://wvrpc.org
X-WR-CALDESC:Events for Wildcat Valley Rifle &amp; Pistol Club
REFRESH-INTERVAL;VALUE=DURATION:PT1H
X-Robots-Tag:noindex
X-PUBLISHED-TTL:PT1H
BEGIN:VTIMEZONE
TZID:UTC
BEGIN:STANDARD
TZOFFSETFROM:+0000
TZOFFSETTO:+0000
TZNAME:UTC
DTSTART:20200101T000000
END:STANDARD
END:VTIMEZONE
BEGIN:VEVENT
DTSTART;TZID=UTC:20210829T100000
DTEND;TZID=UTC:20210829T100000
DTSTAMP:20260425T083427
CREATED:20210224T214159Z
LAST-MODIFIED:20210318T163852Z
UID:1206-1630231200-1630231200@wvrpc.org
SUMMARY:[Cancelled] Steel Challenge Match
DESCRIPTION:Ranges 3-7 & ClubhouseRegistration 10:00AM
URL:https://wvrpc.org/event/steel-challenge-match-5/
CATEGORIES:Steel Challenge
END:VEVENT
END:VCALENDAR