BEGIN:VCALENDAR
VERSION:2.0
PRODID:-//Wildcat Valley Rifle &amp; Pistol Club - ECPv6.15.20//NONSGML v1.0//EN
CALSCALE:GREGORIAN
METHOD:PUBLISH
X-WR-CALNAME:Wildcat Valley Rifle &amp; Pistol Club
X-ORIGINAL-URL:https://wvrpc.org
X-WR-CALDESC:Events for Wildcat Valley Rifle &amp; Pistol Club
REFRESH-INTERVAL;VALUE=DURATION:PT1H
X-Robots-Tag:noindex
X-PUBLISHED-TTL:PT1H
BEGIN:VTIMEZONE
TZID:UTC
BEGIN:STANDARD
TZOFFSETFROM:+0000
TZOFFSETTO:+0000
TZNAME:UTC
DTSTART:20200101T000000
END:STANDARD
END:VTIMEZONE
BEGIN:VEVENT
DTSTART;TZID=UTC:20210828T080000
DTEND;TZID=UTC:20210828T080000
DTSTAMP:20260425T094554
CREATED:20210224T214149Z
LAST-MODIFIED:20210224T225120Z
UID:1197-1630137600-1630137600@wvrpc.org
SUMMARY:Junior Club
DESCRIPTION:Range 2
URL:https://wvrpc.org/event/junior-club-9/
CATEGORIES:Junior Club
END:VEVENT
BEGIN:VEVENT
DTSTART;TZID=UTC:20210828T160000
DTEND;TZID=UTC:20210828T160000
DTSTAMP:20260425T094554
CREATED:20210224T214158Z
LAST-MODIFIED:20210318T163907Z
UID:1205-1630166400-1630166400@wvrpc.org
SUMMARY:[Cancelled] Steel Challenge Setup
DESCRIPTION:Ranges 3-7
URL:https://wvrpc.org/event/steel-challenge-setup-2/
CATEGORIES:Steel Challenge
END:VEVENT
END:VCALENDAR