BEGIN:VCALENDAR
VERSION:2.0
PRODID:-//Wildcat Valley Rifle &amp; Pistol Club - ECPv6.15.20//NONSGML v1.0//EN
CALSCALE:GREGORIAN
METHOD:PUBLISH
X-ORIGINAL-URL:https://wvrpc.org
X-WR-CALDESC:Events for Wildcat Valley Rifle &amp; Pistol Club
REFRESH-INTERVAL;VALUE=DURATION:PT1H
X-Robots-Tag:noindex
X-PUBLISHED-TTL:PT1H
BEGIN:VTIMEZONE
TZID:UTC
BEGIN:STANDARD
TZOFFSETFROM:+0000
TZOFFSETTO:+0000
TZNAME:UTC
DTSTART:20200101T000000
END:STANDARD
END:VTIMEZONE
BEGIN:VEVENT
DTSTART;VALUE=DATE:20210814
DTEND;VALUE=DATE:20210815
DTSTAMP:20260425T094706
CREATED:20210224T214153Z
LAST-MODIFIED:20210224T225708Z
UID:1200-1628899200-1628985599@wvrpc.org
SUMMARY:ICORE Setup (After IDPA)
DESCRIPTION:Ranges 3-7
URL:https://wvrpc.org/event/icore-setup-after-idpa-5/
CATEGORIES:ICORE
END:VEVENT
BEGIN:VEVENT
DTSTART;TZID=UTC:20210814T070000
DTEND;TZID=UTC:20210814T070000
DTSTAMP:20260425T094706
CREATED:20210224T214148Z
LAST-MODIFIED:20210621T162839Z
UID:1195-1628924400-1628924400@wvrpc.org
SUMMARY:IDPA Match
DESCRIPTION:Ranges 3-8 & Clubhouse Registration begins at 9 AM and closes at 9:45 AM
URL:https://wvrpc.org/event/idpa-match-5/
CATEGORIES:IDPA
END:VEVENT
BEGIN:VEVENT
DTSTART;TZID=UTC:20210814T080000
DTEND;TZID=UTC:20210814T080000
DTSTAMP:20260425T094706
CREATED:20210224T214148Z
LAST-MODIFIED:20210224T225708Z
UID:1196-1628928000-1628928000@wvrpc.org
SUMMARY:Junior Club
DESCRIPTION:Range 2
URL:https://wvrpc.org/event/junior-club-8/
CATEGORIES:Junior Club
END:VEVENT
BEGIN:VEVENT
DTSTART;TZID=UTC:20210814T080000
DTEND;TZID=UTC:20210814T080000
DTSTAMP:20260425T094706
CREATED:20210224T214152Z
LAST-MODIFIED:20210224T225707Z
UID:1198-1628928000-1628928000@wvrpc.org
SUMMARY:Highpower CMP Cup Match
DESCRIPTION:Range 2
URL:https://wvrpc.org/event/highpower-cmp-cup-match-7/
CATEGORIES:Highpower
END:VEVENT
BEGIN:VEVENT
DTSTART;TZID=UTC:20210814T130000
DTEND;TZID=UTC:20210814T130000
DTSTAMP:20260425T094706
CREATED:20210224T214152Z
LAST-MODIFIED:20210224T225707Z
UID:1199-1628946000-1628946000@wvrpc.org
SUMMARY:Silhouette Setup & Clinic
DESCRIPTION:Range 2
URL:https://wvrpc.org/event/silhouette-setup-clinic-5/
CATEGORIES:Silhouette
END:VEVENT
END:VCALENDAR