BEGIN:VCALENDAR
VERSION:2.0
PRODID:-//Wildcat Valley Rifle &amp; Pistol Club - ECPv6.15.20//NONSGML v1.0//EN
CALSCALE:GREGORIAN
METHOD:PUBLISH
X-WR-CALNAME:Wildcat Valley Rifle &amp; Pistol Club
X-ORIGINAL-URL:https://wvrpc.org
X-WR-CALDESC:Events for Wildcat Valley Rifle &amp; Pistol Club
REFRESH-INTERVAL;VALUE=DURATION:PT1H
X-Robots-Tag:noindex
X-PUBLISHED-TTL:PT1H
BEGIN:VTIMEZONE
TZID:UTC
BEGIN:STANDARD
TZOFFSETFROM:+0000
TZOFFSETTO:+0000
TZNAME:UTC
DTSTART:20200101T000000
END:STANDARD
END:VTIMEZONE
BEGIN:VEVENT
DTSTART;TZID=UTC:20210806T153000
DTEND;TZID=UTC:20210806T153000
DTSTAMP:20260425T094554
CREATED:20210224T203042Z
LAST-MODIFIED:20210609T162320Z
UID:1189-1628263800-1628263800@wvrpc.org
SUMMARY:USPSA Setup
DESCRIPTION:Ranges 3-8
URL:https://wvrpc.org/event/uspsa-setup-6/
CATEGORIES:USPSA
END:VEVENT
END:VCALENDAR