BEGIN:VCALENDAR
VERSION:2.0
PRODID:-//Wildcat Valley Rifle &amp; Pistol Club - ECPv6.15.20//NONSGML v1.0//EN
CALSCALE:GREGORIAN
METHOD:PUBLISH
X-ORIGINAL-URL:https://wvrpc.org
X-WR-CALDESC:Events for Wildcat Valley Rifle &amp; Pistol Club
REFRESH-INTERVAL;VALUE=DURATION:PT1H
X-Robots-Tag:noindex
X-PUBLISHED-TTL:PT1H
BEGIN:VTIMEZONE
TZID:America/Indiana/Indianapolis
BEGIN:DAYLIGHT
TZOFFSETFROM:-0500
TZOFFSETTO:-0400
TZNAME:EDT
DTSTART:20210314T070000
END:DAYLIGHT
BEGIN:STANDARD
TZOFFSETFROM:-0400
TZOFFSETTO:-0500
TZNAME:EST
DTSTART:20211107T060000
END:STANDARD
BEGIN:DAYLIGHT
TZOFFSETFROM:-0500
TZOFFSETTO:-0400
TZNAME:EDT
DTSTART:20220313T070000
END:DAYLIGHT
BEGIN:STANDARD
TZOFFSETFROM:-0400
TZOFFSETTO:-0500
TZNAME:EST
DTSTART:20221106T060000
END:STANDARD
BEGIN:DAYLIGHT
TZOFFSETFROM:-0500
TZOFFSETTO:-0400
TZNAME:EDT
DTSTART:20230312T070000
END:DAYLIGHT
BEGIN:STANDARD
TZOFFSETFROM:-0400
TZOFFSETTO:-0500
TZNAME:EST
DTSTART:20231105T060000
END:STANDARD
END:VTIMEZONE
BEGIN:VEVENT
DTSTART;TZID=America/Indiana/Indianapolis:20221105T073000
DTEND;TZID=America/Indiana/Indianapolis:20221105T160000
DTSTAMP:20260422T023326
CREATED:20220209T173628Z
LAST-MODIFIED:20220209T173628Z
UID:2107-1667633400-1667664000@wvrpc.org
SUMMARY:USPSA
DESCRIPTION:Setup 7:30 AMMatch 11:00 AM\nRanges 3-8 & Clubhouse
URL:https://wvrpc.org/event/uspsa-9/
LOCATION:Wildcat Valley R and P Club\, 12094 SOUTH 300 EAST\, BROOKSTON\, IN\, 47923\, United States
CATEGORIES:USPSA
END:VEVENT
BEGIN:VEVENT
DTSTART;TZID=America/Indiana/Indianapolis:20221106T090000
DTEND;TZID=America/Indiana/Indianapolis:20221106T170000
DTSTAMP:20260422T023326
CREATED:20220209T173629Z
LAST-MODIFIED:20221104T122919Z
UID:2109-1667725200-1667754000@wvrpc.org
SUMMARY:Rimfire Falling Steel - CANCELLED
DESCRIPTION:Registration 9:00 AMMatch 10:00 AM\n(Ranges 3 – 7)
URL:https://wvrpc.org/event/rimfire-falling-steel-9/
LOCATION:Wildcat Valley R and P Club\, 12094 SOUTH 300 EAST\, BROOKSTON\, IN\, 47923\, United States
CATEGORIES:RFS
END:VEVENT
BEGIN:VEVENT
DTSTART;TZID=America/Indiana/Indianapolis:20221111T160000
DTEND;TZID=America/Indiana/Indianapolis:20221111T200000
DTSTAMP:20260422T023326
CREATED:20220802T124244Z
LAST-MODIFIED:20220802T124244Z
UID:2273-1668182400-1668196800@wvrpc.org
SUMMARY:2022 Honor Flight 2 Gun Charity Match Setup
DESCRIPTION:**** Ranges 1 – 8 ****
URL:https://wvrpc.org/event/2022-honor-flight-2-gun-charity-match-setup/
LOCATION:Wildcat Valley R and P Club\, 12094 SOUTH 300 EAST\, BROOKSTON\, IN\, 47923\, United States
CATEGORIES:Special Event
END:VEVENT
BEGIN:VEVENT
DTSTART;TZID=America/Indiana/Indianapolis:20221112T080000
DTEND;TZID=America/Indiana/Indianapolis:20221112T170000
DTSTAMP:20260422T023326
CREATED:20220802T123928Z
LAST-MODIFIED:20220802T123928Z
UID:2269-1668240000-1668272400@wvrpc.org
SUMMARY:2022 Honor Flight 2 Gun Charity Match
DESCRIPTION:Ladies and gentlemen:\nMark your calendar! After a two year hiatus\, Wildcat Valley Rifle & Pistol club will again be hosting our Honor Flight 2 gun charity match November 12th. All targets\, labor and space has been generously donated by the great men and women of WVRPC. This means every single penny that comes in will go straight to Honor Flight of Greater Lafayette.\nMore info to come\, just remember the date.\n\n****Ranges 1 – 8 will be used for the event***
URL:https://wvrpc.org/event/2022-honor-flight-2-gun-charity-match/
LOCATION:Wildcat Valley R and P Club\, 12094 SOUTH 300 EAST\, BROOKSTON\, IN\, 47923\, United States
CATEGORIES:Special Event
END:VEVENT
BEGIN:VEVENT
DTSTART;TZID=America/Indiana/Indianapolis:20221113T103000
DTEND;TZID=America/Indiana/Indianapolis:20221113T170000
DTSTAMP:20260422T023326
CREATED:20220209T173828Z
LAST-MODIFIED:20220505T113907Z
UID:2111-1668335400-1668358800@wvrpc.org
SUMMARY:NRL22
DESCRIPTION:Setup 10:30 AMRegistration 1:15 PM\nMatch 2 PM\nRange 1
URL:https://wvrpc.org/event/nrl22-9/
LOCATION:Wildcat Valley R and P Club\, 12094 SOUTH 300 EAST\, BROOKSTON\, IN\, 47923\, United States
CATEGORIES:NRL-22
END:VEVENT
END:VCALENDAR