BEGIN:VCALENDAR
VERSION:2.0
PRODID:-//Wildcat Valley Rifle &amp; Pistol Club - ECPv6.15.20//NONSGML v1.0//EN
CALSCALE:GREGORIAN
METHOD:PUBLISH
X-WR-CALNAME:Wildcat Valley Rifle &amp; Pistol Club
X-ORIGINAL-URL:https://wvrpc.org
X-WR-CALDESC:Events for Wildcat Valley Rifle &amp; Pistol Club
REFRESH-INTERVAL;VALUE=DURATION:PT1H
X-Robots-Tag:noindex
X-PUBLISHED-TTL:PT1H
BEGIN:VTIMEZONE
TZID:America/Indiana/Indianapolis
BEGIN:DAYLIGHT
TZOFFSETFROM:-0500
TZOFFSETTO:-0400
TZNAME:EDT
DTSTART:20220313T070000
END:DAYLIGHT
BEGIN:STANDARD
TZOFFSETFROM:-0400
TZOFFSETTO:-0500
TZNAME:EST
DTSTART:20221106T060000
END:STANDARD
BEGIN:DAYLIGHT
TZOFFSETFROM:-0500
TZOFFSETTO:-0400
TZNAME:EDT
DTSTART:20230312T070000
END:DAYLIGHT
BEGIN:STANDARD
TZOFFSETFROM:-0400
TZOFFSETTO:-0500
TZNAME:EST
DTSTART:20231105T060000
END:STANDARD
BEGIN:DAYLIGHT
TZOFFSETFROM:-0500
TZOFFSETTO:-0400
TZNAME:EDT
DTSTART:20240310T070000
END:DAYLIGHT
BEGIN:STANDARD
TZOFFSETFROM:-0400
TZOFFSETTO:-0500
TZNAME:EST
DTSTART:20241103T060000
END:STANDARD
END:VTIMEZONE
BEGIN:VEVENT
DTSTART;TZID=America/Indiana/Indianapolis:20230909T070000
DTEND;TZID=America/Indiana/Indianapolis:20230909T150000
DTSTAMP:20260421T134411
CREATED:20230201T191221Z
LAST-MODIFIED:20231009T111208Z
UID:2583-1694242800-1694271600@wvrpc.org
SUMMARY:IDPA Match
DESCRIPTION:Registration begins at 9:00 AM Match 10:00 AM(Ranges 3 thru 8 & Clubhouse)
URL:https://wvrpc.org/event/idpa-match-29/
LOCATION:Wildcat Valley R and P Club\, 12094 SOUTH 300 EAST\, BROOKSTON\, IN\, 47923\, United States
CATEGORIES:IDPA
END:VEVENT
BEGIN:VEVENT
DTSTART;TZID=America/Indiana/Indianapolis:20230909T080000
DTEND;TZID=America/Indiana/Indianapolis:20230909T170000
DTSTAMP:20260421T134411
CREATED:20230201T191224Z
LAST-MODIFIED:20230201T200223Z
UID:2584-1694246400-1694278800@wvrpc.org
SUMMARY:Junior Club
DESCRIPTION:(Range 2)
URL:https://wvrpc.org/event/junior-club-36/
LOCATION:Wildcat Valley R and P Club\, 12094 SOUTH 300 EAST\, BROOKSTON\, IN\, 47923\, United States
CATEGORIES:Junior Club
END:VEVENT
BEGIN:VEVENT
DTSTART;TZID=America/Indiana/Indianapolis:20230909T130000
DTEND;TZID=America/Indiana/Indianapolis:20230909T130000
DTSTAMP:20260421T134411
CREATED:20230201T191224Z
LAST-MODIFIED:20230201T200223Z
UID:2585-1694264400-1694264400@wvrpc.org
SUMMARY:Silhouette Setup & Clinc
DESCRIPTION:(Range 2)
URL:https://wvrpc.org/event/silhouette-setup-clinc-3/
LOCATION:Wildcat Valley R and P Club\, 12094 SOUTH 300 EAST\, BROOKSTON\, IN\, 47923\, United States
CATEGORIES:Silhouette
END:VEVENT
BEGIN:VEVENT
DTSTART;TZID=America/Indiana/Indianapolis:20230909T133000
DTEND;TZID=America/Indiana/Indianapolis:20230909T210000
DTSTAMP:20260421T134411
CREATED:20230411T150432Z
LAST-MODIFIED:20230411T193715Z
UID:2951-1694266200-1694293200@wvrpc.org
SUMMARY:PCSL
DESCRIPTION:Setup 1:30PM Match 5:00 PM\n(Ranges 1\, 3\, 5\, 6\, 7\, 8 & Clubhouse)
URL:https://wvrpc.org/event/pcsl-17/
LOCATION:Wildcat Valley R and P Club\, 12094 SOUTH 300 EAST\, BROOKSTON\, IN\, 47923\, United States
CATEGORIES:PCSL
END:VEVENT
END:VCALENDAR